Workbook

Sheet ABSTRACT
B1: SEGRIGATION CENTER UJJAIN - ABSTRACT
B4: S.NO. | C4: DESCRIPTION | D4: AMMOUNT
B5: 1 | C5: EXCAVATION | D5: ='CIVIL STRUCTURE'!K7 -> 0
B6: 2 | C6: P.C.C(M10) | D6: ='CIVIL STRUCTURE'!K20 -> 0
B7: 3 | C7: SHUTTERING | D7: ='CIVIL STRUCTURE'!K14 -> 0
B8: 4 | C8: BACKFILING | D8: ='CIVIL STRUCTURE'!K9 -> 0
B9: 5 | C9: R.C.C(M25) | D9: ='CIVIL STRUCTURE'!K26 -> 0
B10: 6 | C10: REINFORCEMENT STEEL(FE 500) | D10: ='CIVIL STRUCTURE'!K42 -> 0
B11: 7 | C11: STEEL | D11: ='CIVIL STRUCTURE'!K50 -> 0
B12: 8 | C12: TOP G.I. SHEET | D12: ='CIVIL STRUCTURE'!K52+'CIVIL STRUCTURE'!K61 -> 0
B13: 9 | C13: SIDE CLADDING G.I. SHEET | D13: ='CIVIL STRUCTURE'!K53+'CIVIL STRUCTURE'!K62 -> 0
B14: 10 | C14: CHAIN LINK FENCING | D14: ='CIVIL STRUCTURE'!K54+'CIVIL STRUCTURE'!K63 -> 0
B15: 11 | C15: POLYCARBONATE SHEET | D15: ='CIVIL STRUCTURE'!K55 -> 0
B16: 12 | C16: TURBO VENTILATOR | D16: ='CIVIL STRUCTURE'!K56 -> 0
B17: 13 | C17: BRICK WORK | D17: ='CIVIL STRUCTURE'!K29 -> 0
B18: 14 | C18: PLASTER | D18: ='CIVIL STRUCTURE'!K30 -> 0
B19: 15 | C19: PAVERS BLOCK | D19: ='CIVIL STRUCTURE'!K31 -> 0
B20: 16 | C20: MS ROLLING SHUTTER | D20: ='CIVIL STRUCTURE'!K65 -> 0
B21: 17 | C21: MAIN GATE | D21: ='CIVIL STRUCTURE'!K64 -> 0
B22: 18 | C22: PAINTS | D22: ='CIVIL STRUCTURE'!K33 -> 0
B23: 19 | C23: TILES | D23: ='CIVIL STRUCTURE'!K32 -> 0
B24: 20 | C24: LANDSCAPING | D24: ='CIVIL STRUCTURE'!K71 -> 0
B25: 21 | C25: ALUMINIUM PARTITION | D25: ='CIVIL STRUCTURE'!K68+'CIVIL STRUCTURE'!K69+'CIVIL STRUCTURE'!K70 -> 0
B26: 22 | C26: PLUMBING & ELECTRICAL | D26: ='CIVIL STRUCTURE'!K76 -> 0
D27: =D5+D6+D7+D8+D9+D10+D11+D12+D13+D14+D15+D16+D17+D18+D19+D20+D21+D22+D23+D24+D25+D26 -> 0
C28: GST 18% | D28: =D27*18/100 -> 0
C29: TOTAL AMMOUNT | D29: =D27+D28 -> 0
B30: IN WORDS: ONE CRORE FIFTY THREE LAKH FORTY THREE THOUSAND TWO HUNDRED FORTY NINE ONLY

Sheet CIVIL STRUCTURE
A1: MAIN SHED , JOINT SHED , REST ROOM, TOILET, PAVERS, LANDSCAPING
A2: Detailed Estimate-As per CPWD SOR 2023
A3: S.No | B3: Area detail | C3: Description | D3: Unit | E3: Num | F3: L | G3: B | H3: H | I3: Qty | J3: Rate in Rupees | K3: Amount in Rupees
A4: (A) | B4: SUBSTRUCTURE
A5: A) | B5: Excavation | C5: Earth work in excavation by mechanical means (Hydraulic excavator)/ manual means over areas (exceeding 30 cm in depth, 1.5 m in width as well as 10 sqm on plan) including getting out and disposal of excavated earth lead upto 50 m and lift upto 1.5 m, as directed by Engineer-incharge. | D5: CUM | E5: 1 | I5: 290.73
B9: Backfilling | C9: Filling available excavated earth (excluding rock) in trenches, plinth, sides of foundations etc. in layers not exceeding 20cm in depth, consolidating each deposited layer by ramming and watering, lead up to 50 m and lift upto 1.5 m. | D9: cum | E9: 1 | I9: 1620
A10: B) | B10: Shuttering | C10: FOOTING , COLUMN, BEAM
I12: 1103
B16: PCC | C16: Foundations, footings, bases for columns
I18: 121.56
A23: C) | B23: Concrete M25 | C23: Providing and laying in position cement concrete of specified grade excluding the cost of centering and shuttering - All work up to plinth level :
I25: 372.94
B28: BRICK & PLASTER | C28: REST ROOM , TOILET , MAIN SHED, JS
C29: BRICK | D29: cum | E29: 1 | I29: 127.76
C30: PLASTER | D30: SQM | E30: 1 | I30: 1417.1
C31: PAVERS BLOCK | D31: SQM | E31: 1 | I31: 847
C32: TILES | D32: SQM | E32: 1 | I32: ='PAVERS & TILES '!H28+'PAVERS & TILES '!H32 -> 159.345
B33: PAINT | C33: New work (Two or more coat applied @ 1.67 ltr/10 sqm over and including priming coat of exterior primer applied @ 2.20 kg/10 sqm) | D33: SQM | E33: 2 | I33: 533
B36: TMT Bar | C36: Steel reinforcement for R.C.C. work including straightening, cutting, bending, placing in position and binding all complete upto plinth level
C37: Thermo-Mechanically Treated bars of grade Fe-500D or more.
C39: REST ROOM , TOILET , MAIN SHED,JS
C40: FOOTING ,COLUMN , BEAM,
C41: TMT | D41: KG | E41: 1 | I41: 20605
B44: STEEL STRUCTURE
C45: MAIN SHED, JOINT SHED
C47: Structural steel work riveted, bolted or welded in built up sections, trusses and framed work, including cutting, hoisting, fixing in position and applying a priming coat of approved steel primer all complete
C48: Steel Qty as per BOQ
D49: KG | E49: 1 | I49: ='MAIN SHED'!K131+'JOINTS SHED'!K138 -> 22907.528
C51: MAIN SHED
C52: TOP G.I. SHEET | D52: M2 | I52: ='MAIN SHED'!K134 -> 1054.77
C53: SIDE CLADDING G.I. SHEET | D53: M2 | I53: ='MAIN SHED'!K135 -> 200
C54: CHAIN LINK FENCING | D54: M2 | I54: ='MAIN SHED'!K136 -> 386
C55: POLYCARBONATE SHEET | D55: M2 | I55: ='MAIN SHED'!K137 -> 36
C56: TURBO VENTILATOR | D56: NO | I56: ='MAIN SHED'!K138 -> 12
C59: JOINT SHED
C61: TOP G.I. SHEET | D61: M2 | I61: ='JOINTS SHED'!K141 -> 228.75
C62: SIDE CLADDING G.I. SHEET | D62: M2 | I62: ='JOINTS SHED'!K142 -> 60
C63: CHAIN LINK FENCING | D63: M2 | I63: ='JOINTS SHED'!K143 -> 180
C64: MAIN GATE | D64: KG | E64: 2 | I64: 200
C65: MS ROLLING SHUTTER | D65: KG | E65: 4 | I65: 300
C67: OFFICE ALUMINIUM PARTITION | D67: SQFT
C68: ALLUMINIUM | D68: SQFT | E68: 1 | I68: 550
C69: GRID CELLING | D69: SQFT | E69: 1 | I69: 250
C70: DOOR | D70: SQFT | E70: 2 | I70: 53
C71: LANDSCAPING | D71: SQM | I71: 100
C75: PLUMBING & ELECTRICAL
C76: Plumbing and Electrification @6%
J78: GRAND TOTAL
C79: GST 18% | K79: =K78*18/100 -> 0
D80: GRAND TOTAL | K80: =K78+K79 -> 0

Sheet C.TOILET
B1: SEGRIGATION CENTER UJJAIN - ABSTRACT
B3: SEGRIGATION CENTER UJJAIN - B.O.Q. OF COMMON TOILET
B6: S.NO | C6: PARTICULARS OF ITEMS | D6: NO. | E6: LENGTH | F6: BREADTH | G6: DEPTH(H) | H6: QUANTITY | I6: UNITS
B7: 1 | C7: P.C.C.(M10)
D8: 8 | E8: 2 | F8: 2 | G8: 0.1 | H8: =D8*E8*F8*G8 -> 3.2
H9: =SUM(H8:H8) -> 3.2 | I9: CUM
C10: R.C.C.(M25)
B11: A | C11: FOOTING
D12: 8 | E12: 1.8 | F12: 1.8 | G12: 0.45 | H12: =D12*E12*F12*G12 -> 11.664 | I12: CUM
B14: B | C14: COLUMN
D15: 8 | E15: 0.37 | F15: 0.2 | G15: 5.5 | H15: =(D15*E15*F15*G15) -> 3.256
H16: =SUM(H15:H15) -> 3.256 | I16: CUM
B17: C | C17: PLINTH BEAM
D18: 1 | E18: 33.85 | F18: 0.2 | G18: 0.37 | H18: =(D18*E18*F18*G18) -> 2.5049
H19: =SUM(H18:H18) -> 2.5049 | I19: CUM
B20: D | C20: SLAB BEAM
D21: 1 | E21: 35 | F21: 0.2 | G21: 0.37 | H21: =(D21*E21*F21*G21) -> 2.59
H22: =SUM(H21:H21) -> 2.59 | I22: CUM
B23: E | C23: SLAB
D24: 1 | E24: 7.32 | F24: 3.95 | G24: 0.15 | H24: =(D24*E24*F24*G24) -> 4.3371
H25: =SUM(H24:H24) -> 4.3371 | I25: CUM
C27: TOTAL R.C.C. | H27: =H9+H12+H16+H19+H22+H25 -> 27.552 | I27: CUM
B30: S.NO | C30: PARTICULARS OF ITEMS | D30: NO. | E30: LENGTH | F30: BREADTH | G30: DEPTH(H) | H30: QUANTITY | I30: UNITS
B31: 1 | C31: SHUTTERING
B33: A | C33: FOOTING
D34: 8 | E34: 7.2 | F34: 0 | G34: 0.45 | H34: =D34*E34*G34 -> 25.92 | I34: SQM
B36: B | C36: COLUMN
D37: 8 | E37: 1.48 | F37: 0 | G37: 5.5 | H37: =D37*E37*G37 -> 65.12
H38: =SUM(H37:H37) -> 65.12 | I38: SQM
B39: C | C39: PLINTH BEAM
D40: 2 | E40: 33.85 | G40: 0.37 | H40: =D40*E40*G40 -> 25.049
H41: =SUM(H40:H40) -> 25.049 | I41: SQM
B42: D | C42: SLAB BEAM
D43: 2 | E43: 35 | G43: 0.37 | H43: =D43*E43*G43 -> 25.9
H44: =SUM(H43:H43) -> 25.9 | I44: SQM
B45: E | C45: SLAB
D46: 1 | E46: 7.32 | G46: 3.95 | H46: =D46*E46*G46 -> 28.914
H47: =SUM(H46:H46) -> 28.914 | I47: SQM
C49: TOTAL SHUTTRING | H49: =H34+H38+H41+H44+H47 -> 170.903 | I49: SQM
B56: S.NO | C56: PARTICULARS OF ITEMS | D56: DIA OF BAR | E56: NO. OF ITEMS | F56: NO. OF BAR | G56: LENGTH | H56: UNIT WEIGHT(KG/M) | I56: 8MM | J56: 10MM | K56: 12MM | L56: 16MM
B57: 2 | C57: REINFORCEMENT
B59: A | C59: FOOTING
C60: F1 (10#) XX | D60: 10 | E60: 8 | F60: 12 | G60: 2.3 | H60: =D60*D60/162 -> 0.61728395 | J60: =E60*F60*G60*H60 -> 136.2963
C61: F1 (10#) YY | D61: 10 | E61: 8 | F61: 12 | G61: 2.3 | H61: =D61*D61/162 -> 0.61728395 | J61: =E61*F61*G61*H61 -> 136.2963
B63: A | C63: COLUMN
C64: C1 (12#) | D64: 12 | E64: 8 | F64: 8 | G64: 9 | H64: =D64*D64/162 -> 0.88888889 | K64: =E64*F64*G64*H64 -> 512
C65: LINK (8#) | D65: 8 | E65: 8 | F65: =G64/0.15 -> 60 | G65: 1.15 | H65: =D65*D65/162 -> 0.39506173 | I65: =(E65*F65*G65*H65) -> 218.07407
C66: LINK (8#) | D66: 8 | E66: 8 | F66: 60 | G66: 0.6 | H66: =D66*D66/162 -> 0.39506173 | I66: =(E66*F66*G66*H66) -> 113.77778
B68: B | C68: PLINTH BEAM
C70: TOP STRAIGHT 12# | D70: 12 | E70: 1 | F70: 2 | G70: 35 | H70: =(D70*D70/162) -> 0.88888889 | K70: =E70*F70*G70*H70+1.5 -> 63.722222
C71: BOTTOM STRAIGHT 12# | D71: 12 | E71: 1 | F71: 4 | G71: 35 | H71: =(D71*D71/162) -> 0.88888889 | K71: =E71*F71*G71*H71+1.5 -> 125.94444
C72: STRP 8#@150C/C | D72: 8 | E72: 1 | F72: 1.1 | G72: 233 | H72: =(D72*D72/162) -> 0.39506173 | I72: =(E72*F72*G72*H72) -> 101.25432
B74: C | C74: SLAB BEAM
C76: TOP STRAIGHT 12# | D76: 12 | E76: 1 | F76: 2 | G76: 35 | H76: =(D76*D76/162) -> 0.88888889 | K76: =E76*F76*G76*H76+1.5 -> 63.722222
C77: BOTTOM STRAIGHT 12# | D77: 12 | E77: 1 | F77: 4 | G77: 35 | H77: =(D77*D77/162) -> 0.88888889 | K77: =E77*F77*G77*H77+1.5 -> 125.94444
C78: STRP 8#@150C/C | D78: 8 | E78: 1 | F78: 1.1 | G78: 233 | H78: =(D78*D78/162) -> 0.39506173 | I78: =(E78*F78*G78*H78) -> 101.25432
B80: C | C80: SLAB
C81: F1 (10#) XX | D81: 10 | E81: 1 | F81: 8 | G81: 56 | H81: =D81*D81/162 -> 0.61728395 | J81: =E81*F81*G81*H81 -> 276.54321
C82: F1 (10#) YY | D82: 10 | E82: 1 | F82: 4 | G82: 27 | H82: =D82*D82/162 -> 0.61728395 | J82: =E82*F82*G82*H82 -> 66.666667
C84: TOTAL REINFORCEMENT STEEL | I84: =SUM(I58:I83) -> 534.36049 | J84: =SUM(J58:J83) -> 615.80247 | K84: =SUM(K58:K83) -> 891.33333 | L84: =SUM(L58:L83) -> 0
C85: TOTAL REINFORCEMENT STEEL INCLUDING 5 % EXTRA | I85: =I84*1.05 -> 561.07852 | J85: =J84*1.05 -> 646.59259 | K85: =K84*1.05 -> 935.9 | L85: =L84*1.05 -> 0
I86: TOTAL | J86: 2143.57
B89: 5 | C89: BRICK WORK
D91: 1 | E91: 1 | F91: 33.55 | G91: 3 | H91: 0.2 | K91: =D91*E91*F91*G91*H91 -> 20.13
C93: TOTAL | K93: =SUM(K91:K92) -> 20.13 | L93: CUM
B95: 6 | C95: PLASTER
C97: INNER PLASTER | K97: 80.2
C98: OUTER PLASTER | K98: 67.5
C99: TOTAL | K99: =K97+K98 -> 147.7 | L99: M2

Sheet REST ROOM
B1: SEGRIGATION CENTER UJJAIN - ABSTRACT
B2: SEGRIGATION CENTER UJJAIN - B.O.Q. OF REST ROOM ( 11' X 17' )
B5: S.NO | C5: PARTICULARS OF ITEMS | D5: NO. | E5: LENGTH | F5: BREADTH | G5: DEPTH(H) | H5: QUANTITY | I5: UNITS
B6: 1 | C6: P.C.C.(M10)
D7: 6 | E7: 2 | F7: 2 | G7: 0.1 | H7: =D7*E7*F7*G7 -> 2.4
H8: =SUM(H7:H7) -> 2.4 | I8: CUM
C9: R.C.C.(M25)
B10: A | C10: FOOTING
D11: 6 | E11: 1.8 | F11: 1.8 | G11: 0.45 | H11: =D11*E11*F11*G11 -> 8.748 | I11: CUM
B13: B | C13: COLUMN
D14: 6 | E14: 0.37 | F14: 0.2 | G14: 5.5 | H14: =(D14*E14*F14*G14) -> 2.442
H15: =SUM(H14:H14) -> 2.442 | I15: CUM
B16: C | C16: PLINTH BEAM
D17: 1 | E17: 20.43 | F17: 0.2 | G17: 0.37 | H17: =(D17*E17*F17*G17) -> 1.51182
H18: =SUM(H17:H17) -> 1.51182 | I18: CUM
B19: D | C19: SLAB BEAM
D20: 1 | E20: 35 | F20: 0.2 | G20: 0.37 | H20: =(D20*E20*F20*G20) -> 2.59
H21: =SUM(H20:H20) -> 2.59 | I21: CUM
B22: E | C22: SLAB
D23: 1 | E23: 5.18 | F23: 3.35 | G23: 0.15 | H23: =(D23*E23*F23*G23) -> 2.60295
H24: =SUM(H23:H23) -> 2.60295 | I24: CUM
C26: TOTAL R.C.C. | H26: =H8+H11+H15+H18+H21+H24 -> 20.29477 | I26: CUM
B28: S.NO | C28: PARTICULARS OF ITEMS | D28: NO. | E28: LENGTH | F28: BREADTH | G28: DEPTH(H) | H28: QUANTITY | I28: UNITS
B29: 1 | C29: SHUTTERING
B31: A | C31: FOOTING
D32: 6 | E32: 7.2 | F32: 0 | G32: 0.45 | H32: =D32*E32*G32 -> 19.44 | I32: SQM
B34: B | C34: COLUMN
D35: 6 | E35: 1.48 | F35: 0 | G35: 5.5 | H35: =D35*E35*G35 -> 48.84
H36: =SUM(H35:H35) -> 48.84 | I36: SQM
B37: C | C37: PLINTH BEAM
D38: 2 | E38: 20.43 | G38: 0.37 | H38: =D38*E38*G38 -> 15.1182
H39: =SUM(H38:H38) -> 15.1182 | I39: SQM
B40: D | C40: SLAB BEAM
D41: 2 | E41: 35 | G41: 0.37 | H41: =D41*E41*G41 -> 25.9
H42: =SUM(H41:H41) -> 25.9 | I42: SQM
B43: E | C43: SLAB
D44: 1 | E44: 5.18 | G44: 3.35 | H44: =D44*E44*G44 -> 17.353
H45: =SUM(H44:H44) -> 17.353 | I45: SQM
C47: TOTAL SHUTTRING | H47: =H32+H36+H39+H42+H45 -> 126.6512 | I47: SQM
B50: S.NO | C50: PARTICULARS OF ITEMS | D50: DIA OF BAR | E50: NO. OF ITEMS | F50: NO. OF BAR | G50: LENGTH | H50: UNIT WEIGHT(KG/M) | I50: 8MM | J50: 10MM | K50: 12MM | L50: 16MM
B51: 2 | C51: REINFORCEMENT
B53: A | C53: FOOTING
C54: F1 (10#) XX | D54: 10 | E54: 6 | F54: 12 | G54: 2.3 | H54: =D54*D54/162 -> 0.61728395 | J54: =E54*F54*G54*H54 -> 102.22222
C55: F1 (10#) YY | D55: 10 | E55: 6 | F55: 12 | G55: 2.3 | H55: =D55*D55/162 -> 0.61728395 | J55: =E55*F55*G55*H55 -> 102.22222
B57: A | C57: COLUMN
C58: C1 (12#) | D58: 12 | E58: 6 | F58: 8 | G58: 9 | H58: =D58*D58/162 -> 0.88888889 | K58: =E58*F58*G58*H58 -> 384
C59: LINK (8#) | D59: 8 | E59: 6 | F59: =G58/0.15 -> 60 | G59: 1.15 | H59: =D59*D59/162 -> 0.39506173 | I59: =(E59*F59*G59*H59) -> 163.55556
C60: LINK (8#) | D60: 8 | E60: 6 | F60: 60 | G60: 0.6 | H60: =D60*D60/162 -> 0.39506173 | I60: =(E60*F60*G60*H60) -> 85.333333
B62: B | C62: PLINTH BEAM
C64: TOP STRAIGHT 12# | D64: 12 | E64: 1 | F64: 2 | G64: 35 | H64: =(D64*D64/162) -> 0.88888889 | K64: =E64*F64*G64*H64+1.5 -> 63.722222
C65: BOTTOM STRAIGHT 12# | D65: 12 | E65: 1 | F65: 4 | G65: 35 | H65: =(D65*D65/162) -> 0.88888889 | K65: =E65*F65*G65*H65+1.5 -> 125.94444
C66: STRP 8#@150C/C | D66: 8 | E66: 1 | F66: 1.1 | G66: 233 | H66: =(D66*D66/162) -> 0.39506173 | I66: =(E66*F66*G66*H66) -> 101.25432
B68: C | C68: SLAB BEAM
C70: TOP STRAIGHT 12# | D70: 12 | E70: 1 | F70: 2 | G70: 35 | H70: =(D70*D70/162) -> 0.88888889 | K70: =E70*F70*G70*H70+1.5 -> 63.722222
C71: BOTTOM STRAIGHT 12# | D71: 12 | E71: 1 | F71: 4 | G71: 35 | H71: =(D71*D71/162) -> 0.88888889 | K71: =E71*F71*G71*H71+1.5 -> 125.94444
C72: STRP 8#@150C/C | D72: 8 | E72: 1 | F72: 1.1 | G72: 233 | H72: =(D72*D72/162) -> 0.39506173 | I72: =(E72*F72*G72*H72) -> 101.25432
B74: C | C74: SLAB
C75: F1 (10#) XX | D75: 10 | E75: 1 | F75: 8 | G75: 56 | H75: =D75*D75/162 -> 0.61728395 | J75: =E75*F75*G75*H75 -> 276.54321
C76: F1 (10#) YY | D76: 10 | E76: 1 | F76: 4 | G76: 27 | H76: =D76*D76/162 -> 0.61728395 | J76: =E76*F76*G76*H76 -> 66.666667
C78: TOTAL REINFORCEMENT STEEL | I78: =SUM(I52:I77) -> 451.39753 | J78: =SUM(J52:J77) -> 547.65432 | K78: =SUM(K52:K77) -> 763.33333 | L78: =SUM(L52:L77) -> 0
C79: TOTAL REINFORCEMENT STEEL INCLUDING 5 % EXTRA | I79: =I78*1.05 -> 473.96741 | J79: =J78*1.05 -> 575.03704 | K79: =K78*1.05 -> 801.5 | L79: =L78*1.05 -> 0
I80: TOTAL | J80: 1376.54
C82: PLINTH FILLING
C83: MURRUM | D83: 1 | E83: 1 | F83: 7.32 | G83: 3.96 | H83: 0.6 | K83: =D83*E83*F83*G83*H83 -> 17.39232
L84: CUM
B86: 5 | C86: BRICK WORK
D88: 1 | E88: 1 | F88: 28 | G88: 3 | H88: 0.2 | K88: =D88*E88*F88*G88*H88 -> 16.8
C90: TOTAL | K90: =SUM(K88:K89) -> 16.8 | L90: CUM
B92: 6 | C92: PLASTER
C94: INNER PLASTER | K94: 67
C95: OUTER PLASTER | K95: 73.2
C96: TOTAL | K96: =K94+K95 -> 140.2 | L96: M2

Sheet PAVERS & TILES 
B1: SEGRIGATION CENTER UJJAIN - ABSTRACT
B2: SEGRIGATION CENTER UJJAIN - B.O.Q. OF PAVERS BLOCK
B5: S.NO | C5: PARTICULARS OF ITEMS | D5: NO. | E5: LENGTH | F5: BREADTH | G5: DEPTH(H) | H5: QUANTITY | I5: UNITS
B6: 1 | C6: PAVERS
H7: 847
H8: =SUM(H7:H7) -> 847 | I8: SQM
C9: MATERIAL
B10: A | C10: PCC SAND
D11: 1 | E11: 847 | G11: 0.1 | H11: =D11*E11*G11 -> 84.7 | I11: CUM
B13: B | C13: MURRUM BACKFILING
D14: 1 | E14: 847 | G14: 0.6 | H14: =E14*G14 -> 508.2
H15: =SUM(H14:H14) -> 508.2 | I15: CUM
B19: SEGRIGATION CENTER UJJAIN - B.O.Q. OF BATHROOM & REST ROOM TILES
B22: S.NO | C22: PARTICULARS OF ITEMS | D22: NO. | E22: LENGTH | F22: BREADTH | G22: DEPTH(H) | H22: QUANTITY | I22: UNITS
B23: 1 | C23: TILES
C24: FLOOR MALE & FEMALE | D24: 1 | E24: 7.32 | G24: 4 | H24: =E24*G24 -> 29.28
H26: =SUM(H24:H24) -> 29.28 | I26: SQM
C27: WALL TILE MALE & FEMALE | D27: 1 | E27: 22 | G27: 2.4 | H27: =E27*G27 -> 52.8 | I27: SQM
H28: =H24+H26+H27 -> 111.36
C29: REST ROOM
B30: 2 | C30: FLOOR | D30: 1 | E30: 5.1 | G30: 3.35 | H30: =E30*G30 -> 17.085
C31: WALL TILE | D31: 1 | E31: 20.6 | G31: 1.5 | H31: =E31*G31 -> 30.9
H32: =H30+H31 -> 47.985 | I32: SQM

Sheet MAIN SHED
B1: SEGRIGATION CENTER UJJAIN - ABSTRACT
B2: SEGRIGATION CENTER UJJAIN - B.O.Q. OF MAIN SHED ( 24.50 X 39.950 )
B5: S.NO | C5: PARTICULARS OF ITEMS | D5: NO. | E5: LENGTH | F5: BREADTH | G5: DEPTH(H) | H5: QUANTITY | I5: UNITS
C6: EXCAVATION
C7: F1 | D7: 16 | E7: 2.5 | F7: 2.4 | G7: 1.8 | H7: =D7*E7*F7*G7 -> 172.8
C8: F2 | D8: 4 | E8: 2.4 | F8: 2.3 | G8: 1.8 | H8: =D8*E8*F8*G8 -> 39.744
H9: =H7+H8 -> 212.544 | I9: CUM
C10: BACKFILING
C11: F1 - F2 MURRUM | D11: 20 | E11: 2.5 | F11: 2.4 | G11: 1.8 | H11: =D11*E11*F11*G11 -> 216
C12: PLINTH BACKFILING | D12: 1 | E12: 24.5 | F12: 39.9 | G12: 0.6 | H12: =D12*E12*F12*G12 -> 586.53 | I12: CUM
H13: =H11+H12 -> 802.53 | I13: CUM
B14: 1 | C14: P.C.C.(M10)
C15: F1 | D15: 16 | E15: 2.5 | F15: 2.4 | G15: 0.15 | H15: =D15*E15*F15*G15 -> 14.4
C16: F2 | D16: 4 | E16: 2.4 | F16: 2.3 | G16: 0.15 | H16: =D16*E16*F16*G16 -> 3.312
H17: =H15+H16 -> 17.712 | I17: CUM
B18: 2 | C18: R.C.C.(M25)
B19: A | C19: FOUNDATION
C20: F1 | D20: 16 | E20: 2.3 | F20: 2.1 | G20: 0.45 | H20: =D20*E20*F20*G20 -> 34.776
C21: F2 | D21: 4 | E21: 2.2 | F21: 2 | G21: 0.45 | H21: =D21*E21*F21*G21 -> 7.92
H22: =H20+H21 -> 42.696 | I22: CUM
B23: B | C23: COLUMN
C24: C1 | D24: 16 | E24: 0.8 | F24: 0.6 | G24: 4.9 | H24: =(D24*E24*F24*G24) -> 37.632
C25: C2 | D25: 4 | E25: 0.5 | F25: 0.6 | G25: 4.9 | H25: =(D25*E25*F25*G25) -> 5.88
H26: =H24+H25 -> 43.512 | I26: CUM
B27: C | C27: PLINTH BEAM
C28: PB | D28: 1 | E28: 0.2 | F28: 0.6 | G28: 128.9 | H28: =(D28*E28*F28*G28) -> 15.468
H29: =SUM(H28:H28) -> 15.468 | I29: CUM
B30: C | C30: PLINTH PCC FLOOR
D31: 1 | E31: 39.95 | F31: 24.5 | G31: 0.125 | H31: =(D31*E31*F31*G31) -> 122.34687
H32: =SUM(H31:H31) -> 122.34687 | I32: CUM
C34: TOTAL R.C.C. | H34: =H17+H22+H26+H29+H32 -> 241.73487 | I34: CUM
B36: S.NO | C36: PARTICULARS OF ITEMS | D36: NO. | E36: LENGTH | F36: BREADTH | G36: DEPTH(H) | H36: QUANTITY | I36: UNITS
B37: 1 | C37: SHUTTERING
B39: A | C39: FOOTING
D40: 20 | E40: 8.8 | F40: 0 | G40: 0.45 | H40: =D40*E40*G40 -> 79.2 | I40: SQM
B42: B | C42: COLUMN
C43: C1 | D43: 16 | E43: 2.8 | F43: 0 | G43: 4.9 | H43: =D43*E43*G43 -> 219.52
C44: C2 | D44: 4 | E44: 2.2 | F44: 0 | G44: 4.9 | H44: =D44*E44*G44 -> 43.12
H45: =H43+H44 -> 262.64 | I45: SQM
B46: C | C46: PLINTH BEAM
D47: 2 | E47: 128.9 | G47: 0.45 | H47: =D47*E47*G47 -> 116.01
H48: =SUM(H47:H47) -> 116.01 | I48: SQM
C50: TOTAL SHUTTRING | H50: =H40+H45+H48 -> 457.85 | I50: SQM
B52: S.NO | C52: PARTICULARS OF ITEMS | D52: DIA OF BAR | E52: NO. OF ITEMS | F52: NO. OF BAR | G52: LENGTH | H52: UNIT WEIGHT(KG/M) | I52: 8MM | J52: 10MM | K52: 12MM | L52: 16MM
B53: 3 | C53: REINFORCEMENT
B54: A | C54: FOOTING
C55: F1
C56: (BOTTOM)
C57: ALONG B | D57: 10 | E57: 16 | F57: 15 | G57: 2.9 | H57: =D57*D57/162 -> 0.61728395 | J57: =(E57*F57*G57*H57) -> 429.62963
C58: ALONG L | D58: 10 | E58: 16 | F58: 15 | G58: 2.9 | H58: =D58*D58/162 -> 0.61728395 | J58: =(E58*F58*G58*H58) -> 429.62963
C60: (TOP)
C61: ALONG B | D61: 10 | E61: 16 | F61: 10 | G61: 2.7 | H61: =D61*D61/162 -> 0.61728395 | J61: =(E61*F61*G61*H61) -> 266.66667
C62: ALONG L | D62: 10 | E62: 16 | F62: 10 | G62: 2.7 | H62: =D62*D62/162 -> 0.61728395 | J62: =(E62*F62*G62*H62) -> 266.66667
C64: F2
C65: (BOTTOM)
C66: ALONG B | D66: 10 | E66: 4 | F66: 15 | G66: 2.9 | H66: =D66*D66/162 -> 0.61728395 | J66: =(E66*F66*G66*H66) -> 107.40741
C67: ALONG L | D67: 10 | E67: 4 | F67: 15 | G67: 2.9 | H67: =D67*D67/162 -> 0.61728395 | J67: =(E67*F67*G67*H67) -> 107.40741
C69: (TOP)
C70: ALONG B | D70: 10 | E70: 4 | F70: 10 | G70: 2.7 | H70: =D70*D70/162 -> 0.61728395 | J70: =(E70*F70*G70*H70) -> 66.666667
C71: ALONG L | D71: 10 | E71: 4 | F71: 10 | G71: 2.7 | H71: =D71*D71/162 -> 0.61728395 | J71: =(E71*F71*G71*H71) -> 66.666667
B73: B | C73: COLUMN
C74: C1 (16#) | D74: 16 | E74: 16 | F74: 18 | G74: 5.35 | H74: =D74*D74/162 -> 1.5802469 | L74: =E74*F74*G74*H74 -> 2434.8444
C75: LINK (8#) | D75: 8 | E75: 16 | F75: 2.8 | G75: 33 | H75: =D75*D75/162 -> 0.39506173 | I75: =(E75*F75*G75*H75) -> 584.05926
C76: LINK (8#) | D76: 8 | E76: 16 | F76: 2.2 | G76: 33 | H76: =D76*D76/162 -> 0.39506173 | I76: =(E76*F76*G76*H76) -> 458.9037
C77: LINK (8#) | D77: 8 | E77: 16 | F77: 2 | G77: 33 | H77: =D77*D77/162 -> 0.39506173 | I77: =(E77*F77*G77*H77) -> 417.18519
C79: C1 (16#) | D79: 16 | E79: 4 | F79: 16 | G79: 5.35 | H79: =D79*D79/162 -> 1.5802469 | L79: =E79*F79*G79*H79 -> 541.07654
C80: LINK (8#) | D80: 8 | E80: 4 | F80: 2.8 | G80: 33 | H80: =D80*D80/162 -> 0.39506173 | I80: =(E80*F80*G80*H80) -> 146.01481
C81: LINK (8#) | D81: 8 | E81: 4 | F81: 2.2 | G81: 33 | H81: =D81*D81/162 -> 0.39506173 | I81: =(E81*F81*G81*H81) -> 114.72593
C82: LINK (8#) | D82: 8 | E82: 4 | F82: 2 | G82: 33 | H82: =D82*D82/162 -> 0.39506173 | I82: =(E82*F82*G82*H82) -> 104.2963
B86: C | C86: PLINTH BEAM
C87: PB
C88: TOP STRAIGHT 16# | D88: 16 | E88: 1 | F88: 130 | G88: 2 | H88: =(D88*D88/162) -> 1.5802469 | K88: =E88*F88*G88*H88+1.5 -> 412.3642
C89: TOP EXTRA 16# | D89: 16 | E89: 1 | F89: 76 | G89: 2 | H89: =(D89*D89/162) -> 1.5802469 | K89: =E89*F89*G89*H89+1.5 -> 241.69753
C90: BOTTOM STRAIGHT 16# | D90: 16 | E90: 1 | F90: =F88 -> 130 | G90: 4 | H90: =(D90*D90/162) -> 1.5802469 | L90: =H90*G90*F90*E90+1.5 -> 823.2284
C91: SFR 12# | D91: 12 | E91: 1 | F91: 130 | G91: 2 | H91: =(D91*D91/162) -> 0.88888889 | L91: =H91*G91*F91*E91+1.5 -> 232.61111
C92: STRP 8#@150C/C | D92: 8 | E92: 1 | F92: 1.8 | G92: 866 | H92: =(D92*D92/162) -> 0.39506173 | I92: =(E92*F92*G92*H92) -> 615.82222
C96: TOTAL REINFORCEMENT STEEL | I96: =SUM(I57:I95) -> 2441.0074 | J96: =SUM(J57:J95) -> 1740.7407 | K96: =SUM(K57:K95) -> 654.06173 | L96: =SUM(L57:L95) -> 4031.7605
C97: TOTAL REINFORCEMENT STEEL INCLUDING 5 % EXTRA | I97: =I96*1.05 -> 2563.0578 | J97: =J96*1.05 -> 1827.7778 | K97: =K96*1.05 -> 686.76481 | L97: =L96*1.05 -> 4233.3485
I98: TOTAL | J98: =I97+J97+K97+L97 -> 9310.9489
B99: S.NO | C99: MEMBER NO. | D99: NUMBER | E99: LENGTH | F99: MEMBER DETAILS | H99: UNIT WT (KG/M) | I99: MEMBER FUNCTION | K99: QUANTITY(KG)
B100: 4 | C100: STEEL
C102: MS COLUMN | D102: SIZE :- 800 X 600
D103: 2ISMC- 300@36.3 KG/M | F103: =2*16 -> 32 | G103: 5.5 | H103: KG | I103: 36.3 | K103: =F103*G103*I103 -> 6388.8
D104: BASE PLATE 300 x 450 x 20 TH. | F104: 16 | G104: 1 | H104: KG | I104: 21.19 | K104: =F104*G104*I104 -> 339.04
D105: STIFFNER PLATE 8 MM TH | F105: 16 | G105: =0.119*0.335*8 -> 0.31892 | H105: KG | I105: 15.7 | K105: =F105*G105*I105 -> 80.112704
D106: STIFFNER PLATE 10 MM TH | F106: 16 | G106: =(0.119+0.119+0.154+0.154+0.154)*0.335*2 -> 0.469 | H106: KG | I106: 20 | K106: =F106*G106*I106 -> 150.08
D107: FOUNDATION BOLT 20 DIA x 900 MM | F107: =8*16 -> 128 | G107: 0.9 | H107: KG | I107: 2.47 | K107: =F107*G107*I107 -> 284.544
K108: =F108*G108*I108 -> 0
C109: MS COLUMN | D109: SIZE :- 600 X 550 | K109: =F109*G109*I109 -> 0
D110: 2ISMC- 200@22.1 KG/M | F110: =4*2 -> 8 | G110: 5.5 | H110: KG | I110: 22.1 | K110: =F110*G110*I110 -> 972.4
D111: BASE PLATE 300 x 450 x 20 TH. | F111: 4 | G111: 1 | H111: KG | I111: 21.19 | K111: =F111*G111*I111 -> 84.76
D112: STIFFNER PLATE 8 MM TH | F112: 4 | G112: =0.119*0.335*8 -> 0.31892 | H112: KG | I112: 15.7 | K112: =F112*G112*I112 -> 20.028176
D113: STIFFNER PLATE 10 MM TH | F113: 4 | G113: =(0.119+0.119+0.154+0.154+0.154)*0.335*2 -> 0.469 | H113: KG | I113: 20 | K113: =F113*G113*I113 -> 37.52
D114: FOUNDATION BOLT 20 DIA x 900 MM | F114: =10*4 -> 40 | G114: 0.9 | H114: KG | I114: 2.47 | K114: =F114*G114*I114 -> 88.92
D115: TRUSS
D116: TOP RAFTER R.H.S. 80 x 80 x 4.80 TH.-10.87 KG/M | F116: 8 | G116: 25 | H116: KG | I116: 10.87 | K116: =F116*G116*I116 -> 2174
D117: BOTTOM TIE R.H.S. 80 x 80 x 4.80 TH.-10.87 KG/M | F117: 8 | G117: 25 | H117: KG | I117: 10.87 | K117: =F117*G117*I117 -> 2174
D118: VERTICAL STRUTS S.H.S. 49 x 49 x 4.5 TH.-5.95 KG/M | F118: 147 | G118: 0.9 | H118: KG | I118: 5.95 | K118: =F118*G118*I118 -> 787.185
D119: INCLINDED STRUTS S.H.S. 49 x 49 x 4.5 TH.-5.95 KG/M | F119: 140 | G119: 1.1 | H119: KG | I119: 5.95 | K119: =F119*G119*I119 -> 916.3
D120: PURLINE S.H.S. R.H.S. 122 x 61 x 3.60 TH.-9.67 KG/M | F120: 22 | G120: 40 | H120: KG | I120: 9.67 | K120: =F120*G120 -> 880
...

Sheet JOINTS SHED
B1: SEGRIGATION CENTER UJJAIN - ABSTRACT
B3: SEGRIGATION CENTER UJJAIN - B.O.Q. OF MAIN SHED ( 15 X 15 M )
B6: S.NO | C6: PARTICULARS OF ITEMS | D6: NO. | E6: LENGTH | F6: BREADTH | G6: DEPTH(H) | H6: QUANTITY | I6: UNITS
C7: EXCAVATION
C8: F1 | D8: 6 | E8: 2 | F8: 2 | G8: 1.8 | H8: =D8*E8*F8*G8 -> 43.2
C9: F2 | D9: 6 | E9: 1.8 | F9: 1.8 | G9: 1.8 | H9: =D9*E9*F9*G9 -> 34.992
H10: =H8+H9 -> 78.192 | I10: CUM
C12: BACKFILING | D12: 12 | E12: 2 | F12: 2 | G12: 1.8 | H12: =D12*E12*F12*G12 -> 86.4
H13: =SUM(H12:H12) -> 86.4 | I13: CUM
C14: PLINTH BACKFILING | D14: 1 | E14: 15.25 | F14: 15 | G14: 0.6 | H14: =D14*E14*F14*G14 -> 137.25
H15: =H12+H13+H14 -> 310.05 | I15: CUM
B16: 1 | C16: P.C.C.(M10)
C17: F1 & F2 | D17: 12 | E17: 2 | F17: 2 | G17: 0.15 | H17: =D17*E17*F17*G17 -> 7.2
H18: =SUM(H17:H17) -> 7.2 | I18: CUM
C20: TOTAL P.C.C. | H20: =H18 -> 7.2 | I20: CUM
B22: 2 | C22: R.C.C.(M25)
B23: A | C23: FOUNDATION
C24: F1 | D24: 6 | E24: 1.8 | F24: 1.6 | G24: 0.45 | H24: =D24*E24*F24*G24 -> 7.776
C25: F2 | D25: 6 | E25: 1.5 | F25: 1.5 | G25: 0.45 | H25: =D25*E25*F25*G25 -> 6.075
H26: =H24+H25 -> 13.851 | I26: CUM
B27: B | C27: COLUMN
C28: C1 | D28: 6 | E28: 0.5 | F28: 0.4 | G28: 13.8 | H28: =(D28*E28*F28*G28) -> 16.56
C29: C1 | D29: 6 | E29: 0.4 | F29: 0.4 | G29: 13.8 | H29: =(D29*E29*F29*G29) -> 13.248
H30: =H28+H29 -> 29.808 | I30: CUM
B31: C | C31: PLINTH PCC BASE
C32: B1 | D32: 1 | E32: 15.25 | F32: 15 | G32: 0.15 | H32: =(D32*E32*F32*G32) -> 34.3125
H33: =SUM(H32:H32) -> 34.3125 | I33: CUM
B34: D | C34: PLINTH BEAM
C35: B1 | D35: 1 | E35: 0.2 | F35: 0.45 | G35: 60 | H35: =(D35*E35*F35*G35) -> 5.4
H36: =SUM(H35:H35) -> 5.4 | I36: CUM
C38: TOTAL R.C.C. | H38: =H26+H30+H33+H36 -> 83.3715 | I38: CUM
B40: S.NO | C40: PARTICULARS OF ITEMS | D40: NO. | E40: LENGTH | F40: BREADTH | G40: DEPTH(H) | H40: QUANTITY | I40: UNITS
B41: 1 | C41: SHUTTERING
B43: A | C43: FOOTING
D44: 12 | E44: 7.2 | F44: 0 | G44: 0.45 | H44: =D44*E44*G44 -> 38.88 | I44: SQM
B46: B | C46: COLUMN
D47: 12 | E47: 1.6 | F47: 0 | G47: 13.8 | H47: =D47*E47*G47 -> 264.96
H48: =SUM(H47:H47) -> 264.96 | I48: SQM
B49: C | C49: PLINTH BEAM
D50: 2 | E50: 60 | G50: 0.37 | H50: =D50*E50*G50 -> 44.4
H51: =SUM(H50:H50) -> 44.4 | I51: SQM
C53: TOTAL SHUTTRING | H53: =H44+H48+H51 -> 348.24 | I53: SQM
B57: S.NO | C57: PARTICULARS OF ITEMS | D57: DIA OF BAR | E57: NO. OF ITEMS | F57: LENGTH | G57: NO. OF BAR | H57: UNIT WEIGHT(KG/M) | I57: 8MM | J57: 10MM | K57: 12MM | L57: 16MM
B58: 3 | C58: REINFORCEMENT
B59: A | C59: FOOTING
C60: F1
C61: (BOTTOM)
C62: ALONG B | D62: 10 | E62: 12 | F62: =1.35+0.6 -> 1.95 | G62: 12 | H62: =D62*D62/162 -> 0.61728395 | J62: =(E62*F62*G62*H62) -> 173.33333
C63: ALONG L | D63: 10 | E63: 12 | F63: =1.35+0.6 -> 1.95 | G63: 12 | H63: =D63*D63/162 -> 0.61728395 | J63: =(E63*F63*G63*H63) -> 173.33333
C65: (TOP)
C66: ALONG B | D66: 10 | E66: 12 | F66: =1.35+0.6 -> 1.95 | G66: 8 | H66: =D66*D66/162 -> 0.61728395 | J66: =(E66*F66*G66*H66) -> 115.55556
C67: ALONG L | D67: 10 | E67: 12 | F67: =1.35+0.6 -> 1.95 | G67: 8 | H67: =D67*D67/162 -> 0.61728395 | J67: =(E67*F67*G67*H67) -> 115.55556
C69: F2
C70: (BOTTOM)
C71: ALONG B | D71: 10 | E71: 12 | F71: =1.35+0.6 -> 1.95 | G71: =(F72-0.6)/0.15+1 -> 10 | H71: =D71*D71/162 -> 0.61728395 | J71: =(E71*F71*G71*H71) -> 144.44444
C72: ALONG L | D72: 10 | E72: 12 | F72: =1.35+0.6 -> 1.95 | G72: 12 | H72: =D72*D72/162 -> 0.61728395 | J72: =(E72*F72*G72*H72) -> 173.33333
C74: (TOP)
C75: ALONG B | D75: 10 | E75: 12 | F75: =1.35+0.6 -> 1.95 | G75: =(F76-0.6)/0.25+1 -> 6.4 | H75: =D75*D75/162 -> 0.61728395 | J75: =(E75*F75*G75*H75) -> 92.444444
C76: ALONG L | D76: 10 | E76: 12 | F76: =1.35+0.6 -> 1.95 | G76: 8 | H76: =D76*D76/162 -> 0.61728395 | J76: =(E76*F76*G76*H76) -> 115.55556
B80: B | C80: COLUMN
C81: C1 (12#) | D81: 16 | E81: 6 | F81: 13.8 | G81: 8 | H81: =D81*D81/162 -> 1.5802469 | K81: =E81*F81*G81*H81 -> 1046.7556
C82: C1 (20#) | D82: 20 | E82: 6 | F82: 13.08 | G82: 4 | H82: =D82*D82/162 -> 2.4691358 | K82: =E82*F82*G82*H82 -> 775.11111
C83: LINK (8#) | D83: 8 | E83: 6 | F83: 1.46 | G83: 92 | H83: =D83*D83/162 -> 0.39506173 | I83: =(E83*F83*G83*H83) -> 318.38815
C84: LINK (8#) | D84: 8 | E84: 6 | F84: 0.56 | G84: 92 | H84: =D84*D84/162 -> 0.39506173 | I84: =(E84*F84*G84*H84) -> 122.12148
C85: LINK (8#) | D85: 8 | E85: 6 | F85: 0.96 | G85: 92 | H85: =D85*D85/162 -> 0.39506173 | I85: =(E85*F85*G85*H85) -> 209.35111
C87: C2 (16#) | D87: 16 | E87: 6 | F87: 13.8 | G87: 4 | H87: =D87*D87/162 -> 1.5802469 | K87: =E87*F87*G87*H87 -> 523.37778
C88: C2 (12#) | D88: 12 | E88: 6 | F88: 13.8 | G88: 8 | H88: =D88*D88/162 -> 0.88888889 | K88: =E88*F88*G88*H88 -> 588.8
C89: LINK (8#) | D89: 8 | E89: 6 | F89: 1.46 | G89: 92 | H89: =D89*D89/162 -> 0.39506173 | I89: =(E89*F89*G89*H89) -> 318.38815
C90: LINK (8#) | D90: 8 | E90: 6 | F90: 0.56 | G90: 92 | H90: =D90*D90/162 -> 0.39506173 | I90: =(E90*F90*G90*H90) -> 122.12148
C91: LINK (8#) | D91: 8 | E91: 6 | F91: 0.96 | G91: 92 | H91: =D91*D91/162 -> 0.39506173 | I91: =(E91*F91*G91*H91) -> 209.35111
B96: C | C96: PLINTH BEAM
C97: TB1,
C98: TOP STRAIGHT 12# | D98: 12 | E98: 1 | F98: 15.5 | G98: 2 | H98: =(D98*D98/162) -> 0.88888889 | K98: =E98*F98*G98*H98+1.5 -> 29.055556
C99: TOP EXTRA 12# | D99: 12 | E99: 1 | F99: =F98*2/3 -> 10.333333 | G99: 2 | H99: =(D99*D99/162) -> 0.88888889 | K99: =E99*F99*G99*H99+1.5 -> 19.87037
C100: BOTTOM STRAIGHT 12# | D100: 12 | E100: 1 | F100: 91.5 | G100: 6 | H100: =(D100*D100/162) -> 0.88888889 | L100: =H100*G100*F100*E100+1.5 -> 489.5
C101: STRP 8#@150C/C | D101: 8 | E101: 1 | F101: 1.32 | G101: 520 | H101: =(D101*D101/162) -> 0.39506173 | I101: =(E101*F101*G101*H101) -> 271.17037
C102: STRP 8#@200C/C | D102: 8 | E102: 1 | F102: 1.32 | G102: 300 | H102: =(D102*D102/162) -> 0.39506173 | I102: =(E102*F102*G102*H102) -> 156.44444
C104: TB2,
C105: TOP STRAIGHT 16# | D105: 16 | E105: 1 | F105: 30 | G105: 2 | H105: =(D105*D105/162) -> 1.5802469 | K105: =E105*F105*G105*H105+1.5 -> 96.314815
C106: TOP EXTRA 16# | D106: 16 | E106: 1 | F106: 17 | G106: 2 | H106: =(D106*D106/162) -> 1.5802469 | K106: =E106*F106*G106*H106+1.5 -> 55.228395
C107: BOTTOM STRAIGHT 16# | D107: 16 | E107: 1 | F107: 30 | G107: 4 | H107: =(D107*D107/162) -> 1.5802469 | L107: =H107*G107*F107*E107+1.5 -> 191.12963
C108: STRP 8#@150C/C | D108: 8 | E108: 1 | F108: 1.32 | G108: 200 | H108: =(D108*D108/162) -> 0.39506173 | I108: =(E108*F108*G108*H108) -> 104.2963
C109: STRP 8#@200C/C | D109: 8 | E109: 1 | F109: 1.32 | G109: 200 | H109: =(D109*D109/162) -> 0.39506173 | I109: =(E109*F109*G109*H109) -> 104.2963
C110: TIE BEAM 3000 MM
C111: TB2,
C112: TOP STRAIGHT 16# | D112: 16 | E112: 1 | F112: 30 | G112: 2 | H112: =(D112*D112/162) -> 1.5802469 | K112: =E112*F112*G112*H112+1.5 -> 96.314815
C113: TOP EXTRA 16# | D113: 16 | E113: 1 | F113: 17 | G113: 2 | H113: =(D113*D113/162) -> 1.5802469 | K113: =E113*F113*G113*H113+1.5 -> 55.228395
C114: BOTTOM STRAIGHT 16# | D114: 16 | E114: 1 | F114: 30 | G114: 4 | H114: =(D114*D114/162) -> 1.5802469 | L114: =H114*G114*F114*E114+1.5 -> 191.12963
C115: STRP 8#@150C/C | D115: 8 | E115: 1 | F115: 1.32 | G115: 200 | H115: =(D115*D115/162) -> 0.39506173 | I115: =(E115*F115*G115*H115) -> 104.2963
C116: STRP 8#@200C/C | D116: 8 | E116: 1 | F116: 1.32 | G116: 200 | H116: =(D116*D116/162) -> 0.39506173 | I116: =(E116*F116*G116*H116) -> 104.2963
C119: TOTAL REINFORCEMENT STEEL | I119: =SUM(I62:I118) -> 2144.5215 | J119: =SUM(J62:J118) -> 1103.5556 | K119: =SUM(K62:K118) -> 3286.0568 | L119: =SUM(L62:L118) -> 871.75926
C120: TOTAL REINFORCEMENT STEEL INCLUDING 5 % EXTRA | I120: =I119*1.05 -> 2251.7476 | J120: =J119*1.05 -> 1158.7333 | K120: =K119*1.05 -> 3450.3596 | L120: =L119*1.05 -> 915.34722
I121: TOTAL | J121: =L120+K120+J120+I120 -> 7776.1877
B123: S.NO | C123: MEMBER NO. | D123: NUMBER | E123: LENGTH | F123: MEMBER DETAILS | H123: UNIT WT (KG/M) | I123: MEMBER FUNCTION | K123: QUANTITY(KG)
B124: 4 | C124: STEEL
C127: TRUSS
C128: TOP RAFTER R.H.S. 80 x 80 x 4.80 TH.-10.87 KG/M | E128: 6 | F128: 15 | G128: KG | H128: 10.87 | J128: =E128*F128*H128 -> 978.3
C129: BOTTOM TIE R.H.S. 80 x 80 x 4.80 TH.-10.87 KG/M | E129: 6 | F129: 15 | G129: KG | H129: 10.87 | J129: =E129*F129*H129 -> 978.3
C130: VERTICAL STRUTS S.H.S. 49 x 49 x 4.5 TH.-5.95 KG/M | E130: 90 | F130: 0.9 | G130: KG | H130: 5.95 | J130: =E130*F130*H130 -> 481.95
C131: INCLINDED STRUTS S.H.S. 49 x 49 x 4.5 TH.-5.95 KG/M | E131: 93 | F131: 1.1 | G131: KG | H131: 5.95 | J131: =E131*F131*H131 -> 608.685
...
