Workbook

Sheet ABSTRACT
B1: SEGRIGATION CENTER UJJAIN - ABSTRACT
B4: S.NO. | C4: DESCRIPTION | D4: AMMOUNT
B5: 1 | C5: EXCAVATION | D5: ='CIVIL STRUCTURE'!K7 -> 0
B6: 2 | C6: P.C.C(M10) | D6: ='CIVIL STRUCTURE'!K20 -> 0
B7: 3 | C7: SHUTTERING | D7: ='CIVIL STRUCTURE'!K14 -> 0
B8: 4 | C8: BACKFILING | D8: ='CIVIL STRUCTURE'!K9 -> 0
B9: 5 | C9: R.C.C(M25) | D9: ='CIVIL STRUCTURE'!K26 -> 0
B10: 6 | C10: REINFORCEMENT STEEL(FE 500) | D10: ='CIVIL STRUCTURE'!K42 -> 0
B11: 7 | C11: STEEL | D11: ='CIVIL STRUCTURE'!K50 -> 0
B12: 8 | C12: TOP G.I. SHEET | D12: ='CIVIL STRUCTURE'!K52+'CIVIL STRUCTURE'!K61 -> 0
B13: 9 | C13: SIDE CLADDING G.I. SHEET | D13: ='CIVIL STRUCTURE'!K53+'CIVIL STRUCTURE'!K62 -> 0
B14: 10 | C14: CHAIN LINK FENCING | D14: ='CIVIL STRUCTURE'!K54+'CIVIL STRUCTURE'!K63 -> 0
B15: 11 | C15: POLYCARBONATE SHEET | D15: ='CIVIL STRUCTURE'!K55 -> 0
B16: 12 | C16: TURBO VENTILATOR | D16: ='CIVIL STRUCTURE'!K56 -> 0
B17: 13 | C17: BRICK WORK | D17: ='CIVIL STRUCTURE'!K29 -> 0
B18: 14 | C18: PLASTER | D18: ='CIVIL STRUCTURE'!K30 -> 0
B19: 15 | C19: PAVERS BLOCK | D19: ='CIVIL STRUCTURE'!K31 -> 0
B20: 16 | C20: MS ROLLING SHUTTER | D20: ='CIVIL STRUCTURE'!K65 -> 0
B21: 17 | C21: MAIN GATE | D21: ='CIVIL STRUCTURE'!K64 -> 0
B22: 18 | C22: PAINTS | D22: ='CIVIL STRUCTURE'!K33 -> 0
B23: 19 | C23: TILES | D23: ='CIVIL STRUCTURE'!K32 -> 0
B24: 20 | C24: LANDSCAPING | D24: ='CIVIL STRUCTURE'!K71 -> 0
B25: 21 | C25: ALUMINIUM PARTITION | D25: ='CIVIL STRUCTURE'!K68+'CIVIL STRUCTURE'!K69+'CIVIL STRUCTURE'!K70 -> 0
B26: 22 | C26: PLUMBING & ELECTRICAL | D26: ='CIVIL STRUCTURE'!K76 -> 0
D27: =D5+D6+D7+D8+D9+D10+D11+D12+D13+D14+D15+D16+D17+D18+D19+D20+D21+D22+D23+D24+D25+D26 -> 0
C28: GST 18% | D28: =D27*18/100 -> 0
C29: TOTAL AMMOUNT | D29: =D27+D28 -> 0
B30: IN WORDS: ONE CRORE FIFTY THREE LAKH FORTY THREE THOUSAND TWO HUNDRED FORTY NINE ONLY

Sheet CIVIL STRUCTURE
A1: MAIN SHED , JOINT SHED , REST ROOM, TOILET, PAVERS, LANDSCAPING
A2: Detailed Estimate-As per CPWD SOR 2023
A3: S.No | B3: Area detail | C3: Description | D3: Unit | E3: Num | F3: L | G3: B | H3: H | I3: Qty | J3: Rate in Rupees | K3: Amount in Rupees
A4: (A) | B4: SUBSTRUCTURE
A5: A) | B5: Excavation | C5: Earth work in excavation by mechanical means (Hydraulic excavator)/ manual means over areas (exceeding 30 cm in depth, 1.5 m in width as well as 10 sqm on plan) including getting out and disposal of excavated earth lead upto 50 m and lift upto 1.5 m, as directed by Engineer-incharge. | D5: CUM | E5: 1 | I5: 290.73
B9: Backfilling | C9: Filling available excavated earth (excluding rock) in trenches, plinth, sides of foundations etc. in layers not exceeding 20cm in depth, consolidating each deposited layer by ramming and watering, lead up to 50 m and lift upto 1.5 m. | D9: cum | E9: 1 | I9: 1620
A10: B) | B10: Shuttering | C10: FOOTING , COLUMN, BEAM
I12: 1103
B16: PCC | C16: Foundations, footings, bases for columns
I18: 121.56
A23: C) | B23: Concrete M25 | C23: Providing and laying in position cement concrete of specified grade excluding the cost of centering and shuttering - All work up to plinth level :
I25: 372.94
B28: BRICK & PLASTER | C28: REST ROOM , TOILET , MAIN SHED, JS
C29: BRICK | D29: cum | E29: 1 | I29: 127.76
C30: PLASTER | D30: SQM | E30: 1 | I30: 1417.1
C31: PAVERS BLOCK | D31: SQM | E31: 1 | I31: 847
C32: TILES | D32: SQM | E32: 1 | I32: ='PAVERS & TILES '!H28+'PAVERS & TILES '!H32 -> 159.345
B33: PAINT | C33: New work (Two or more coat applied @ 1.67 ltr/10 sqm over and including priming coat of exterior primer applied @ 2.20 kg/10 sqm) | D33: SQM | E33: 2 | I33: 533
B36: TMT Bar | C36: Steel reinforcement for R.C.C. work including straightening, cutting, bending, placing in position and binding all complete upto plinth level
C37: Thermo-Mechanically Treated bars of grade Fe-500D or more.
C39: REST ROOM , TOILET , MAIN SHED,JS
C40: FOOTING ,COLUMN , BEAM,
C41: TMT | D41: KG | E41: 1 | I41: 20605
B44: STEEL STRUCTURE
C45: MAIN SHED, JOINT SHED
C47: Structural steel work riveted, bolted or welded in built up sections, trusses and framed work, including cutting, hoisting, fixing in position and applying a priming coat of approved steel primer all complete
C48: Steel Qty as per BOQ
D49: KG | E49: 1 | I49: ='MAIN SHED'!K131+'JOINTS SHED'!K138 -> 22907.528
C51: MAIN SHED
C52: TOP G.I. SHEET | D52: M2 | I52: ='MAIN SHED'!K134 -> 1054.77
C53: SIDE CLADDING G.I. SHEET | D53: M2 | I53: ='MAIN SHED'!K135 -> 200
C54: CHAIN LINK FENCING | D54: M2 | I54: ='MAIN SHED'!K136 -> 386
C55: POLYCARBONATE SHEET | D55: M2 | I55: ='MAIN SHED'!K137 -> 36
C56: TURBO VENTILATOR | D56: NO | I56: ='MAIN SHED'!K138 -> 12
C59: JOINT SHED
C61: TOP G.I. SHEET | D61: M2 | I61: ='JOINTS SHED'!K141 -> 228.75
C62: SIDE CLADDING G.I. SHEET | D62: M2 | I62: ='JOINTS SHED'!K142 -> 60
C63: CHAIN LINK FENCING | D63: M2 | I63: ='JOINTS SHED'!K143 -> 180
C64: MAIN GATE | D64: KG | E64: 2 | I64: 200
C65: MS ROLLING SHUTTER | D65: KG | E65: 4 | I65: 300
...

Sheet C.TOILET
B1: SEGRIGATION CENTER UJJAIN - ABSTRACT
B3: SEGRIGATION CENTER UJJAIN - B.O.Q. OF COMMON TOILET
B6: S.NO | C6: PARTICULARS OF ITEMS | D6: NO. | E6: LENGTH | F6: BREADTH | G6: DEPTH(H) | H6: QUANTITY | I6: UNITS
B7: 1 | C7: P.C.C.(M10)
D8: 8 | E8: 2 | F8: 2 | G8: 0.1 | H8: =D8*E8*F8*G8 -> 3.2
H9: =SUM(H8:H8) -> 3.2 | I9: CUM
C10: R.C.C.(M25)
B11: A | C11: FOOTING
D12: 8 | E12: 1.8 | F12: 1.8 | G12: 0.45 | H12: =D12*E12*F12*G12 -> 11.664 | I12: CUM
B14: B | C14: COLUMN
D15: 8 | E15: 0.37 | F15: 0.2 | G15: 5.5 | H15: =(D15*E15*F15*G15) -> 3.256
H16: =SUM(H15:H15) -> 3.256 | I16: CUM
B17: C | C17: PLINTH BEAM
D18: 1 | E18: 33.85 | F18: 0.2 | G18: 0.37 | H18: =(D18*E18*F18*G18) -> 2.5049
H19: =SUM(H18:H18) -> 2.5049 | I19: CUM
B20: D | C20: SLAB BEAM
D21: 1 | E21: 35 | F21: 0.2 | G21: 0.37 | H21: =(D21*E21*F21*G21) -> 2.59
H22: =SUM(H21:H21) -> 2.59 | I22: CUM
B23: E | C23: SLAB
D24: 1 | E24: 7.32 | F24: 3.95 | G24: 0.15 | H24: =(D24*E24*F24*G24) -> 4.3371
H25: =SUM(H24:H24) -> 4.3371 | I25: CUM
C27: TOTAL R.C.C. | H27: =H9+H12+H16+H19+H22+H25 -> 27.552 | I27: CUM
B30: S.NO | C30: PARTICULARS OF ITEMS | D30: NO. | E30: LENGTH | F30: BREADTH | G30: DEPTH(H) | H30: QUANTITY | I30: UNITS
B31: 1 | C31: SHUTTERING
B33: A | C33: FOOTING
D34: 8 | E34: 7.2 | F34: 0 | G34: 0.45 | H34: =D34*E34*G34 -> 25.92 | I34: SQM
B36: B | C36: COLUMN
D37: 8 | E37: 1.48 | F37: 0 | G37: 5.5 | H37: =D37*E37*G37 -> 65.12
H38: =SUM(H37:H37) -> 65.12 | I38: SQM
B39: C | C39: PLINTH BEAM
D40: 2 | E40: 33.85 | G40: 0.37 | H40: =D40*E40*G40 -> 25.049
H41: =SUM(H40:H40) -> 25.049 | I41: SQM
B42: D | C42: SLAB BEAM
D43: 2 | E43: 35 | G43: 0.37 | H43: =D43*E43*G43 -> 25.9
H44: =SUM(H43:H43) -> 25.9 | I44: SQM
B45: E | C45: SLAB
D46: 1 | E46: 7.32 | G46: 3.95 | H46: =D46*E46*G46 -> 28.914
H47: =SUM(H46:H46) -> 28.914 | I47: SQM
C49: TOTAL SHUTTRING | H49: =H34+H38+H41+H44+H47 -> 170.903 | I49: SQM
B56: S.NO | C56: PARTICULARS OF ITEMS | D56: DIA OF BAR | E56: NO. OF ITEMS | F56: NO. OF BAR | G56: LENGTH | H56: UNIT WEIGHT(KG/M) | I56: 8MM | J56: 10MM | K56: 12MM | L56: 16MM
...

Sheet REST ROOM
B1: SEGRIGATION CENTER UJJAIN - ABSTRACT
B2: SEGRIGATION CENTER UJJAIN - B.O.Q. OF REST ROOM ( 11' X 17' )
B5: S.NO | C5: PARTICULARS OF ITEMS | D5: NO. | E5: LENGTH | F5: BREADTH | G5: DEPTH(H) | H5: QUANTITY | I5: UNITS
B6: 1 | C6: P.C.C.(M10)
D7: 6 | E7: 2 | F7: 2 | G7: 0.1 | H7: =D7*E7*F7*G7 -> 2.4
H8: =SUM(H7:H7) -> 2.4 | I8: CUM
C9: R.C.C.(M25)
B10: A | C10: FOOTING
D11: 6 | E11: 1.8 | F11: 1.8 | G11: 0.45 | H11: =D11*E11*F11*G11 -> 8.748 | I11: CUM
B13: B | C13: COLUMN
D14: 6 | E14: 0.37 | F14: 0.2 | G14: 5.5 | H14: =(D14*E14*F14*G14) -> 2.442
H15: =SUM(H14:H14) -> 2.442 | I15: CUM
B16: C | C16: PLINTH BEAM
D17: 1 | E17: 20.43 | F17: 0.2 | G17: 0.37 | H17: =(D17*E17*F17*G17) -> 1.51182
H18: =SUM(H17:H17) -> 1.51182 | I18: CUM
B19: D | C19: SLAB BEAM
D20: 1 | E20: 35 | F20: 0.2 | G20: 0.37 | H20: =(D20*E20*F20*G20) -> 2.59
H21: =SUM(H20:H20) -> 2.59 | I21: CUM
B22: E | C22: SLAB
D23: 1 | E23: 5.18 | F23: 3.35 | G23: 0.15 | H23: =(D23*E23*F23*G23) -> 2.60295
H24: =SUM(H23:H23) -> 2.60295 | I24: CUM
C26: TOTAL R.C.C. | H26: =H8+H11+H15+H18+H21+H24 -> 20.29477 | I26: CUM
B28: S.NO | C28: PARTICULARS OF ITEMS | D28: NO. | E28: LENGTH | F28: BREADTH | G28: DEPTH(H) | H28: QUANTITY | I28: UNITS
B29: 1 | C29: SHUTTERING
B31: A | C31: FOOTING
D32: 6 | E32: 7.2 | F32: 0 | G32: 0.45 | H32: =D32*E32*G32 -> 19.44 | I32: SQM
B34: B | C34: COLUMN
D35: 6 | E35: 1.48 | F35: 0 | G35: 5.5 | H35: =D35*E35*G35 -> 48.84
H36: =SUM(H35:H35) -> 48.84 | I36: SQM
B37: C | C37: PLINTH BEAM
D38: 2 | E38: 20.43 | G38: 0.37 | H38: =D38*E38*G38 -> 15.1182
H39: =SUM(H38:H38) -> 15.1182 | I39: SQM
B40: D | C40: SLAB BEAM
D41: 2 | E41: 35 | G41: 0.37 | H41: =D41*E41*G41 -> 25.9
H42: =SUM(H41:H41) -> 25.9 | I42: SQM
B43: E | C43: SLAB
D44: 1 | E44: 5.18 | G44: 3.35 | H44: =D44*E44*G44 -> 17.353
H45: =SUM(H44:H44) -> 17.353 | I45: SQM
C47: TOTAL SHUTTRING | H47: =H32+H36+H39+H42+H45 -> 126.6512 | I47: SQM
B50: S.NO | C50: PARTICULARS OF ITEMS | D50: DIA OF BAR | E50: NO. OF ITEMS | F50: NO. OF BAR | G50: LENGTH | H50: UNIT WEIGHT(KG/M) | I50: 8MM | J50: 10MM | K50: 12MM | L50: 16MM
...

Sheet PAVERS & TILES 
B1: SEGRIGATION CENTER UJJAIN - ABSTRACT
B2: SEGRIGATION CENTER UJJAIN - B.O.Q. OF PAVERS BLOCK
B5: S.NO | C5: PARTICULARS OF ITEMS | D5: NO. | E5: LENGTH | F5: BREADTH | G5: DEPTH(H) | H5: QUANTITY | I5: UNITS
B6: 1 | C6: PAVERS
H7: 847
H8: =SUM(H7:H7) -> 847 | I8: SQM
C9: MATERIAL
B10: A | C10: PCC SAND
D11: 1 | E11: 847 | G11: 0.1 | H11: =D11*E11*G11 -> 84.7 | I11: CUM
B13: B | C13: MURRUM BACKFILING
D14: 1 | E14: 847 | G14: 0.6 | H14: =E14*G14 -> 508.2
H15: =SUM(H14:H14) -> 508.2 | I15: CUM
B19: SEGRIGATION CENTER UJJAIN - B.O.Q. OF BATHROOM & REST ROOM TILES
B22: S.NO | C22: PARTICULARS OF ITEMS | D22: NO. | E22: LENGTH | F22: BREADTH | G22: DEPTH(H) | H22: QUANTITY | I22: UNITS
B23: 1 | C23: TILES
C24: FLOOR MALE & FEMALE | D24: 1 | E24: 7.32 | G24: 4 | H24: =E24*G24 -> 29.28
H26: =SUM(H24:H24) -> 29.28 | I26: SQM
C27: WALL TILE MALE & FEMALE | D27: 1 | E27: 22 | G27: 2.4 | H27: =E27*G27 -> 52.8 | I27: SQM
H28: =H24+H26+H27 -> 111.36
C29: REST ROOM
B30: 2 | C30: FLOOR | D30: 1 | E30: 5.1 | G30: 3.35 | H30: =E30*G30 -> 17.085
C31: WALL TILE | D31: 1 | E31: 20.6 | G31: 1.5 | H31: =E31*G31 -> 30.9
H32: =H30+H31 -> 47.985 | I32: SQM

Sheet MAIN SHED
B1: SEGRIGATION CENTER UJJAIN - ABSTRACT
B2: SEGRIGATION CENTER UJJAIN - B.O.Q. OF MAIN SHED ( 24.50 X 39.950 )
B5: S.NO | C5: PARTICULARS OF ITEMS | D5: NO. | E5: LENGTH | F5: BREADTH | G5: DEPTH(H) | H5: QUANTITY | I5: UNITS
C6: EXCAVATION
C7: F1 | D7: 16 | E7: 2.5 | F7: 2.4 | G7: 1.8 | H7: =D7*E7*F7*G7 -> 172.8
C8: F2 | D8: 4 | E8: 2.4 | F8: 2.3 | G8: 1.8 | H8: =D8*E8*F8*G8 -> 39.744
H9: =H7+H8 -> 212.544 | I9: CUM
C10: BACKFILING
C11: F1 - F2 MURRUM | D11: 20 | E11: 2.5 | F11: 2.4 | G11: 1.8 | H11: =D11*E11*F11*G11 -> 216
C12: PLINTH BACKFILING | D12: 1 | E12: 24.5 | F12: 39.9 | G12: 0.6 | H12: =D12*E12*F12*G12 -> 586.53 | I12: CUM
H13: =H11+H12 -> 802.53 | I13: CUM
B14: 1 | C14: P.C.C.(M10)
C15: F1 | D15: 16 | E15: 2.5 | F15: 2.4 | G15: 0.15 | H15: =D15*E15*F15*G15 -> 14.4
C16: F2 | D16: 4 | E16: 2.4 | F16: 2.3 | G16: 0.15 | H16: =D16*E16*F16*G16 -> 3.312
H17: =H15+H16 -> 17.712 | I17: CUM
B18: 2 | C18: R.C.C.(M25)
B19: A | C19: FOUNDATION
C20: F1 | D20: 16 | E20: 2.3 | F20: 2.1 | G20: 0.45 | H20: =D20*E20*F20*G20 -> 34.776
C21: F2 | D21: 4 | E21: 2.2 | F21: 2 | G21: 0.45 | H21: =D21*E21*F21*G21 -> 7.92
H22: =H20+H21 -> 42.696 | I22: CUM
B23: B | C23: COLUMN
C24: C1 | D24: 16 | E24: 0.8 | F24: 0.6 | G24: 4.9 | H24: =(D24*E24*F24*G24) -> 37.632
C25: C2 | D25: 4 | E25: 0.5 | F25: 0.6 | G25: 4.9 | H25: =(D25*E25*F25*G25) -> 5.88
H26: =H24+H25 -> 43.512 | I26: CUM
B27: C | C27: PLINTH BEAM
C28: PB | D28: 1 | E28: 0.2 | F28: 0.6 | G28: 128.9 | H28: =(D28*E28*F28*G28) -> 15.468
H29: =SUM(H28:H28) -> 15.468 | I29: CUM
B30: C | C30: PLINTH PCC FLOOR
D31: 1 | E31: 39.95 | F31: 24.5 | G31: 0.125 | H31: =(D31*E31*F31*G31) -> 122.34687
H32: =SUM(H31:H31) -> 122.34687 | I32: CUM
C34: TOTAL R.C.C. | H34: =H17+H22+H26+H29+H32 -> 241.73487 | I34: CUM
B36: S.NO | C36: PARTICULARS OF ITEMS | D36: NO. | E36: LENGTH | F36: BREADTH | G36: DEPTH(H) | H36: QUANTITY | I36: UNITS
B37: 1 | C37: SHUTTERING
B39: A | C39: FOOTING
D40: 20 | E40: 8.8 | F40: 0 | G40: 0.45 | H40: =D40*E40*G40 -> 79.2 | I40: SQM
B42: B | C42: COLUMN
C43: C1 | D43: 16 | E43: 2.8 | F43: 0 | G43: 4.9 | H43: =D43*E43*G43 -> 219.52
C44: C2 | D44: 4 | E44: 2.2 | F44: 0 | G44: 4.9 | H44: =D44*E44*G44 -> 43.12
H45: =H43+H44 -> 262.64 | I45: SQM
B46: C | C46: PLINTH BEAM
...

Sheet JOINTS SHED
B1: SEGRIGATION CENTER UJJAIN - ABSTRACT
B3: SEGRIGATION CENTER UJJAIN - B.O.Q. OF MAIN SHED ( 15 X 15 M )
B6: S.NO | C6: PARTICULARS OF ITEMS | D6: NO. | E6: LENGTH | F6: BREADTH | G6: DEPTH(H) | H6: QUANTITY | I6: UNITS
C7: EXCAVATION
C8: F1 | D8: 6 | E8: 2 | F8: 2 | G8: 1.8 | H8: =D8*E8*F8*G8 -> 43.2
C9: F2 | D9: 6 | E9: 1.8 | F9: 1.8 | G9: 1.8 | H9: =D9*E9*F9*G9 -> 34.992
H10: =H8+H9 -> 78.192 | I10: CUM
C12: BACKFILING | D12: 12 | E12: 2 | F12: 2 | G12: 1.8 | H12: =D12*E12*F12*G12 -> 86.4
H13: =SUM(H12:H12) -> 86.4 | I13: CUM
C14: PLINTH BACKFILING | D14: 1 | E14: 15.25 | F14: 15 | G14: 0.6 | H14: =D14*E14*F14*G14 -> 137.25
H15: =H12+H13+H14 -> 310.05 | I15: CUM
B16: 1 | C16: P.C.C.(M10)
C17: F1 & F2 | D17: 12 | E17: 2 | F17: 2 | G17: 0.15 | H17: =D17*E17*F17*G17 -> 7.2
H18: =SUM(H17:H17) -> 7.2 | I18: CUM
C20: TOTAL P.C.C. | H20: =H18 -> 7.2 | I20: CUM
B22: 2 | C22: R.C.C.(M25)
B23: A | C23: FOUNDATION
C24: F1 | D24: 6 | E24: 1.8 | F24: 1.6 | G24: 0.45 | H24: =D24*E24*F24*G24 -> 7.776
C25: F2 | D25: 6 | E25: 1.5 | F25: 1.5 | G25: 0.45 | H25: =D25*E25*F25*G25 -> 6.075
H26: =H24+H25 -> 13.851 | I26: CUM
B27: B | C27: COLUMN
C28: C1 | D28: 6 | E28: 0.5 | F28: 0.4 | G28: 13.8 | H28: =(D28*E28*F28*G28) -> 16.56
C29: C1 | D29: 6 | E29: 0.4 | F29: 0.4 | G29: 13.8 | H29: =(D29*E29*F29*G29) -> 13.248
H30: =H28+H29 -> 29.808 | I30: CUM
B31: C | C31: PLINTH PCC BASE
C32: B1 | D32: 1 | E32: 15.25 | F32: 15 | G32: 0.15 | H32: =(D32*E32*F32*G32) -> 34.3125
H33: =SUM(H32:H32) -> 34.3125 | I33: CUM
B34: D | C34: PLINTH BEAM
C35: B1 | D35: 1 | E35: 0.2 | F35: 0.45 | G35: 60 | H35: =(D35*E35*F35*G35) -> 5.4
H36: =SUM(H35:H35) -> 5.4 | I36: CUM
C38: TOTAL R.C.C. | H38: =H26+H30+H33+H36 -> 83.3715 | I38: CUM
B40: S.NO | C40: PARTICULARS OF ITEMS | D40: NO. | E40: LENGTH | F40: BREADTH | G40: DEPTH(H) | H40: QUANTITY | I40: UNITS
B41: 1 | C41: SHUTTERING
B43: A | C43: FOOTING
D44: 12 | E44: 7.2 | F44: 0 | G44: 0.45 | H44: =D44*E44*G44 -> 38.88 | I44: SQM
B46: B | C46: COLUMN
D47: 12 | E47: 1.6 | F47: 0 | G47: 13.8 | H47: =D47*E47*G47 -> 264.96
H48: =SUM(H47:H47) -> 264.96 | I48: SQM
B49: C | C49: PLINTH BEAM
D50: 2 | E50: 60 | G50: 0.37 | H50: =D50*E50*G50 -> 44.4
...
