Workbook
Name ___DIA1: #REF!
Name ___DIA1: #REF!
Name ___DIA1: #REF!
Name ___DIA1: #REF!
Name ___DIA1: #REF!
Name ___DIA1: #REF!
Name ___DIA1: #REF!
Name ___DIA1: #REF!
Name ___DIA1: #REF!
Name ___DIA2: #REF!
Name ___DIA2: #REF!
Name ___DIA2: #REF!
Name ___DIA2: #REF!
Name ___DIA2: #REF!
Name ___DIA2: #REF!
Name ___DIA2: #REF!
Name ___DIA2: #REF!
Name ___DIA2: #REF!
Name __DIA1: #REF!
Name __DIA1: #REF!
Name __DIA1: #REF!
Name __DIA1: #REF!
Name __DIA1: #REF!
Name __DIA1: #REF!
Name __DIA1: #REF!
Name __DIA1: #REF!
Name __DIA1: #REF!
Name __DIA2: #REF!
Name __DIA2: #REF!
Name __DIA2: #REF!
Name __DIA2: #REF!
Name __DIA2: #REF!
Name __DIA2: #REF!
Name __DIA2: #REF!
Name __DIA2: #REF!
Name __DIA2: #REF!
Name _DIA1: #REF!
Name _DIA1: #REF!
Name _DIA1: #REF!
Name _DIA1: #REF!
Name _DIA1: #REF!
Name _DIA1: #REF!
Name _DIA1: #REF!
Name _DIA1: #REF!
Name _DIA1: #REF!
Name _DIA2: #REF!
Name _DIA2: #REF!
Name _DIA2: #REF!
Name _DIA2: #REF!
Name _DIA2: #REF!
Name _DIA2: #REF!
Name _DIA2: #REF!
Name _DIA2: #REF!
Name _DIA2: #REF!
Name capacity1: '[1]CABLE DATA'!$F$33:$L$48
Name capacity2: '[2]CABLE DATA'!$F$57:$L$74
Name DIAMETER: #REF!
Name DIAMETER: #REF!
Name DIAMETER: #REF!
Name DIAMETER: #REF!

Sheet Abs MUC
A1: DETAILED AND ABSTRACT ESTIMATE OF PROPOSED MULTY UTILITY CENTER AT-……………………………………. (C.G.)
A2: CIVIL WORK _ MULTY UTILITY CENTER
A3: S. No. | B3: I. No. | C3: PARTICULAR | D3: QTY | E3: UNIT | F3: RATE | G3: AMOUNT
A6: =1 -> 1 | B6: 307 | C6: Excavation for all types and sizes of foundations, trenches ,drains and not more than 1.5m. width and 10 sqm. Area, including dressing and leveling of pits.
C7: Hard rocks. | D7: =#REF! -> #REF! | E7: cum | F7: 154.7 | G7: =ROUNDUP(F7*D7,0) -> #REF!
A9: =A6+1 -> 2 | B9: 413 | C9: Providing and laying nominal mix cement concrete with crushed stone of 40mm size aggregate using concrete mixer in foundation, plinth and at ground level excluding cost of form work.
C10: 1:3:6 (1 cement : 3 coarse sand : 6 graded stone aggregate 40mm nominal size).
D11: =#REF! -> #REF! | E11: cum | F11: 2754.2 | G11: =ROUNDUP(F11*D11,0) -> #REF!
A13: =A9+1 -> 3 | B13: 425 | C13: Providing and laying nominal mix reinforced cement concrete with crushed stone aggregate using concrete mixer in all works upto plinth level excluding cost of form work.
C14: 1:1½:3 (1 cement : 1½ coarse sand : 3 graded stone aggregate 20mm nominal size). | D14: =#REF! -> #REF! | E14: cum | F14: 4323.5 | G14: =ROUNDUP(F14*D14,0) -> #REF!
A16: =A13+1 -> 4 | B16: 904 | C16: Upto 2 Floor, Providing and placing in position reinforcement for R.C.C. work including straightening, cutting, bending, binding etc. complete as per drawings including cost of binding wire in foundation and plinth all complete:
C17: Cold twisted Bar | D17: =#REF! -> #REF! | E17: kg | F17: 66 | G17: =ROUNDUP(F17*D17,0) -> #REF!
A19: =A16+1 -> 5 | B19: 430 | C19: Providing and fixing form work including centring, shuttering, strutting, staging, propping bracing etc. complete and including its removal at all levels, for: | D19: =#REF! -> #REF! | E19: sqm | F19: 220.9 | G19: =ROUNDUP(F19*D19,0) -> #REF!
A21: =A19+1 -> 6 | B21: 401 | C21: Filling from available excavated stuff (Excluding rock) in trenches, plinth, sides of foundation etc. in layers not exceeding 20cm in depth consolidating each deposited layer by ramming and watering with a lead upto 50 M. and lift upto 1.5 M. | D21: =#REF! -> #REF! | E21: cum | F21: 54.7 | G21: =ROUNDUP(F21*D21,0) -> #REF!
A23: =A21+1 -> 7 | B23: 402 | C23: Providing and filling in plinth with sand/ Crusher dust and hard moorum under floor in depth consolidating each deposited layer by ramming and watering, including dressing etc. complete. | D23: =#REF! -> #REF! | E23: cum | F23: 222 | G23: =ROUNDUP(F23*D23,0) -> #REF!
A25: =A23+1 -> 8 | B25: 1220 | C25: Providing and laying damp proof course (upto 50mm thick) with plain cement concrete 1:2:4 (1 cement : 2 coarse sand : 4 graded crushed stone aggregate 20mm nominal size) including form work. | D25: =#REF! -> #REF! | E25: sqm | F25: 255.6 | G25: =ROUNDUP(F25*D25,0) -> #REF!
A27: =A25+1 -> 9 | B27: 605 | C27: Well burnt Modular Brick (open bhatta) clay bricks in foundation and plinth in:
B28: 606 | C28: Extra for brick work
C29: Cement Mortar 1:6 (1 cement : 6 coarse sand) | D29: =#REF! -> #REF! | E29: cum | F29: 2867.5 | G29: =ROUNDUP(F29*D29,0) -> #REF!
A31: =A27+1 -> 10 | B31: ammend 9.63 | C31: Providing and fixing clear float toughened glass door or partition in required thickness frameless in appropriated size inclusive of edge molding polish and making required size slot or hole for patch fitting/hardware etc. The glass to be assembled together with patch fitting and hardware in proper alignment with all labour tools and tackles etc. complete. (Patch fittings and hardware to be paid for separately)
B32: 9.63.1 | C32: 12mm thick for door/partition | D32: =#REF! -> #REF! | E32: sqm | F32: 2560 | G32: =ROUNDUP(F32*D32,0) -> #REF!
A34: =A31+1 -> 11 | B34: 9.64 | C34: Providing and fixing of stainless steel grade316 patch fittingand hardware of approved (hardwyn,Ozone,Godraj) make in frame less toughened glass door or partition in proper aligment with all tools tackles and labour etc.complete
B35: 9.64.1 | C35: Top Patch with pivot SS grade 304 | D35: =#REF! -> #REF! | E35: Nos. | F35: 2297 | G35: =ROUNDUP(F35*D35,0) -> #REF!
B36: 9.64.2 | C36: Top/Side patch glass or L-connector patch SS grade 304 | D36: =#REF! -> #REF! | E36: Nos. | F36: 3058 | G36: =ROUNDUP(F36*D36,0) -> #REF!
B37: 9.64.3 | C37: Bottom patch to be connected with floor machine | D37: =#REF! -> #REF! | E37: Nos. | F37: 2145 | G37: =ROUNDUP(F37*D37,0) -> #REF!
B38: 9.64.4 | C38: Bottom lock patch with three key SS grade 304 | D38: =#REF! -> #REF! | E38: Nos. | F38: 3245 | G38: =ROUNDUP(F38*D38,0) -> #REF!
B39: 9.64.5 | C39: Corner patch fitting with pivot SS grade 304 | D39: =#REF! -> #REF! | E39: Nos. | F39: 3058 | G39: =ROUNDUP(F39*D39,0) -> #REF!
B40: 9.64.6 | C40: Two way action Hydraulic floor spring machine heavy duty double cylinder type Capacity 120/150 Kg mounted on floor including required cutting on floor and proper grouting with rich cement mortar. | D40: =#REF! -> #REF! | E40: Nos. | F40: 7885 | G40: =ROUNDUP(F40*D40,0) -> #REF!
B41: 9.64.7 | C41: H type handle 32x600mm SS 304 grade | D41: =#REF! -> #REF! | E41: Nos. | F41: 2871 | G41: =ROUNDUP(F41*D41,0) -> #REF!
B42: 964.8 | C42: Floor/Wall to Glass Connector SS grade 304 | D42: =#REF! -> #REF! | E42: Nos. | F42: 1084 | G42: =ROUNDUP(F42*D42,0) -> #REF!
A44: =A34+1 -> 12 | B44: 9.47 | C44: Providing and fixing aluminium work for doors, windows, ventilators and partitions made out of extruded aluminium standard sections (main section with minimum 1.5mm thickness) conforming to IS: 733, IS: 1285 mitred and jointed mechanically including aluminium cleats, neoprene weather stripping gasket beveled edge beading, screws duly fixed in wall/ floor with fixing clips or hold fasteners or bolts and nuts as required aluminium sections shall be anodized transparent or dyed to approved shade according to IS: 1868, minimum anodic coating shall be of grade AC-15. (Glazing to be paid for separately:
B45: 9.47.1 | C45: For fixed portion | D45: =#REF! -> #REF! | E45: Kg | F45: 331 | G45: =ROUNDUP(F45*D45,0) -> #REF!
A47: =A44+1 -> 13 | B47: 9.47.2 | C47: For shutter of doors, windows & ventilators including providing and making provision for fixing of fitting wherever required including the cost of PVC/ neoprene gasket required (Fittings shall be paid for separately). | D47: =#REF! -> #REF! | E47: Kg | F47: 338 | G47: =ROUNDUP(F47*D47,0) -> #REF!
A49: =A47+1 -> 14 | B49: 9.48 | C49: Extra for powder coated (minimum 50 micron) aluminium sections instead of anodized. | D49: =#REF! -> #REF! | E49: kg | F49: 27 | G49: =ROUNDUP(F49*D49,0) -> #REF!
A51: =A49+1 -> 15 | B51: 9.51 | C51: Providing and fixing glazing in aluminium door, window, ventilator shutters and partitions etc. with PVC/ neoprene gasket etc. complete. (Cost of aluminium snap beading shall be paid in basic item):
B52: 9.51.2 | C52: With float glass panes of 5 mm thickness | D52: =#REF! -> #REF! | E52: sqm | F52: 708 | G52: =ROUNDUP(F52*D52,0) -> #REF!
A54: =A51+1 -> 16 | B54: 1254 | C54: 25 mm thick KOTA stone flooring over 20mm (Average) thick base of cement mortar 1:6 laid over and jointed with grey cement slurry mixed with pigment to match the shade of the slab including grinding rubbing and polishing etc. complete (Area of slab to be over 0.20 sqm ) | D54: =#REF! -> #REF! | E54: sqm | F54: 1490 | G54: =ROUNDUP(F54*D54,0) -> #REF!
A56: =A54+1 -> 17 | B56: 1007 | C56: Providing and making 12mm thick cement plaster of mix:
C57: In Cement Mortar 1:6 (1 cement : 6 fine sand) | D57: =#REF! -> #REF! | E57: sqm | F57: 91.3 | G57: =ROUNDUP(F57*D57,0) -> #REF!
A59: =A56+1 -> 18 | B59: 1314 | C59: Applying three coat of cement primer on wall surface complete.
...

Sheet Abs Clvrt
A1: DETAILED AND ABSTRACT ESTIMATE OF PROPOSED MULTY UTILITY CENTER AT-…………………………………... (C.G.)
A2: 900x900mm BOX CULVERT
A3: S. No. | B3: I. No. | C3: PARTICULAR | D3: QTY | E3: UNIT | F3: RATE | G3: AMOUNT
A5: 1 | B5: 3.25 | C5: Construction of RCC Drain/Cover/Chamber
B6: (I) | C6: Excavation for drain (Earth work in excavation for drain/chamber as per drawing and technical specification, including setting out, construction of shoring and bracing, removal of stumps and other deleterious matter, dressing of sides and bottom and backfilling with approved material.) | D6: =Culvert!H6 -> 142.29 | E6: cum | F6: 140 | G6: =F6*D6 -> 19920.6
A8: 2 | B8: 6.6 | C8: Providing and laying cement concrete for plain concrete/ reinforced concrete ice form work, shuttering complete in as per drawings and specifications.( For Village roads)
B9: (I) | C9: P.C.C. M-10 | D9: =Culvert!H9 -> 13.77 | E9: cum | F9: 2789 | G9: =F9*D9 -> 38404.53
A11: 3 | B11: 3.25 | C11: Construction of RCC Drain/Cover/Chamber
B12: (ii) | C12: Construction of RCC drain/chamber cover, placing in position, providing shuttering and concreting by using concrete mixer, compaction by vibration etc complete as per drawings and technical specifications excluding reinforcement. with RCC M-20 | D12: =Culvert!H15 -> 36.45 | E12: cum | F12: 4146 | G12: =F12*D12 -> 151121.7
A14: 4 | B14: 3.25 | C14: Construction of RCC Drain/Cover/Chamber
B15: (iii) | C15: Supplying, Fitting and Placing un-coated HYSD bar Reinforcement in drain/cover/chamber complete as per Drawing and Technical Specifications. | D15: =Culvert!H19 -> 2.916 | E15: Mt | F15: 56301 | G15: =F15*D15 -> 164173.72
F17: Total | G17: =SUM(G5:G15) -> 373620.55
F19: To say | G19: =G17/100000 -> 3.7362055

Sheet Abs Road
A1: DETAILED AND ABSTRACT ESTIMATE OF PROPOSED MULTY UTILITY CENTER AT-…………………………………... (C.G.)
A2: 9.0 M WIDE CC ROAD
A3: S. No. | B3: I. No. | C3: PARTICULAR | D3: QTY | E3: UNIT | F3: RATE | G3: AMOUNT
C6: Excavation in Soil (by Mechanical Means.)
A7: =1 -> 1 | B7: 3.2 | C7: Excavation for roadway in soil using mechanical means including loading in tipper for carrying of cut earth to embankment site and unloading with all lifts and lead upto 1000 meters as per relevant clauses of section 300. | D7: =#REF! -> #REF! | E7: cum | F7: 95 | G7: =ROUNDUP(F7*D7,0) -> #REF!
A9: =A7+1 -> 2 | B9: 3.15 | C9: Compacting Original Ground
B10: ( ii ) | C10: Compacting Original Ground supporting embankment Loosening, leveling and compacting original ground to facilitate placement of first layer of embankment, scarified to a depth of 150 mm, mixed with water at O.M.C. and then compacted by rolling so as to achieve minimum dry density as given in table 300-2 for embankment construction. | D10: =#REF! -> #REF! | E10: cum | F10: 28 | G10: =ROUNDUP(F10*D10,0) -> #REF!
A12: =A9+1 -> 3 | B12: 3.13 | C12: Construction of sub-grade with Material Obtained from Borrow Pits/Borrow Area (Construction of sub-grade with approved material/selected soil having C.B.R.>8 (unless specified otherwise in the contract) obtained from borrow pits with all lifts and leads, transporting to site, spreading, grading to required slope and compacting to meet requirement of table 300-2) | D12: =#REF! -> #REF! | E12: cum | F12: 250 | G12: =ROUNDUP(F12*D12,0) -> #REF!
A14: =A12+1 -> 4 | B14: 4.1 | C14: Construction of granular sub-base by providing graded Material, , carriage of mixed Material to work site, spreading in uniform layers with motor grader on prepared surface watering, rolling and compacting with vibratory power roller at OMC to achieve the desired density, complete as per clause 401
B15: A | C15: Plant mix method (with Mechanically crushed stone only)
B16: (a) | C16: For Lower Sub-base with
B17: (i) | C17: Grading-III Material | D17: =#REF! -> #REF! | E17: cum | F17: 1423 | G17: =ROUNDUP(F17*D17,0) -> #REF!
A19: =A14+1 -> 5 | B19: 4.1 | C19: Construction of granular sub-base by providing graded Material, , carriage of mixed Material to work site, spreading in uniform layers with motor grader on prepared surface watering, rolling and compacting with vibratory power roller at OMC to achieve the desired density, complete as per clause 401
B20: (b) | C20: For Sub-base cum drainage layer or upper sub-base with
B21: (i) | C21: Grading-V Material | D21: =#REF! -> #REF! | E21: cum | F21: 1372 | G21: =ROUNDUP(F21*D21,0) -> #REF!
A23: =A19+1 -> 6 | B23: 6.1 | C23: Dry Lean Cement Concrete Sub-base as per IRC:SP-49 (Construction of dry lean cement concrete Sub-base over a prepared sub-grade with coarse and fine aggregate conforming to IS: 383, the size of coarse aggregate not exceeding 26.5 mm, aggregate cement ratio not to exceed 15:1, aggregate gradation after blending to be as per table 600-1, cement content not to be less than 150 kg/cum, optimum moisture content to be determined during trial length construction, concrete strength not to be less than 10 Mpa at 7 days,mixed in a batching plant, transported to site, laid with a paver with electronic sensor, compacting with 8-10 tonnes vibratory roller,finishing and curing as per clause 601.) | D23: =#REF! -> #REF! | E23: cum | F23: 2332 | G23: =ROUNDUP(F23*D23,0) -> #REF!
A25: =A23+1 -> 7 | B25: 6.3 | C25: Cement Concrete Pavement (Construction of un-reinforced, dowel jointed, plain cement concrete pavement over a prepared sub-base, coarse and fine aggregate conforming to IS:383, and graded as per table 600-3, mixed as per approved mix design at site, laid, spread, vibrated, compacted and finished in a continuous operation including provision of contraction, expansion, construction and longitudinal joints, joint filler, separation membrane, sealant primer, joint sealant, de-bonding strip, dowel bar, tie rod, admixtures as approved, curing compound, finishing to lines and grades as per drawing as per clause 602.)
B26: ii) | C26: With Cement concrete grade M-30 and minimum cement content @ 375 kg/cum. | D26: =#REF! -> #REF! | E26: cum | F26: 4539 | G26: =ROUNDUP(F26*D26,0) -> #REF!
A28: =A25+1 -> 8 | B28: 8.44 | C28: Providing and laying of a reinforced cement concrete pipe duct,300 mm dia., across the road ( new construction ) , extending from drain to drain in cuts and toe of slopes to toe of slopes in fills,constructing head walls at both ends, providing a minimum fill of granular material over top and sides of RCC pipes as per IRC: 98- 2011, bedded on a 0.3 m thick layer of granular material free of rock pieces , outer to outer distance of pipes at least half dia of pipe subject to minimum 450 mm in case of double and triple row ducts , joints to be made leak proof, invert level of duct to be above higher than ground level to prevent entry of water and dirt, all as per IRC:98-2011 and approved drawings.
B29: (i) | C29: Single row for one utility service each pipe 30m interwal | D29: =#REF! -> #REF! | E29: Mtr | F29: 553 | G29: =ROUNDUP(F29*D29,0) -> #REF!
E31: Total :- | G31: =SUM(G6:G30) -> #REF!
E33: To Say :- | G33: =G31/100000 -> #REF!

Sheet Abs Park
A1: DETAILED AND ABSTRACT ESTIMATE OF PROPOSED MULTY UTILITY CENTER AT-CHATOUD,DHAMTARI DIVISION (C.G.)
A2: LIGHT VEHICLE PARKING
A3: S. No. | B3: I. No. | C3: PARTICULAR | D3: QTY | E3: UNIT | F3: RATE | G3: AMOUNT
A6: =1 -> 1 | C6: Excavation in Soil (by Mechanical Means.)
B7: 3.2 | C7: Excavation for roadway in soil using mechanical means including loading in tipper for carrying of cut earth to embankment site and unloading with all lifts and lead up to 1000 meters as per relevant clauses of section 300. | D7: =Park!H9 -> 270 | E7: cum | F7: 95 | G7: =ROUNDUP(F7*D7,0) -> 25650
A9: =A6+1 -> 2 | B9: 3.13 | C9: Construction of sub-grade with Material Obtained from Borrow Pits/Borrow Area (Construction of sub-grade with approved material/selected soil having C.B.R.>8 (unless specified otherwise in the contract) obtained from borrow pits with all lifts and leads, transporting to site, spreading, grading to required slope and compacting to meet requirement of table 300-2) | D9: =Park!H13 -> 180 | E9: cum | F9: 250 | G9: =ROUNDUP(F9*D9,0) -> 45000
A11: =A9+1 -> 3 | B11: 4.1 | C11: Granular Sub-base as per Table:- 400-1 Construction of granular sub-base by providing graded Material, ,carriage of mixed Material to work site, spreading in uniform layers with motor grader on prepared surface watering, rolling and compacting with vibratory power roller at OMC to achieve the desired density, complete as per clause 401
B12: A | C12: Plant mix method (with Mechanically crushed stone only)
B13: (a) | C13: For Lower Sub-base with
B14: (i) | C14: Grading-III Material | D14: =Park!H20 -> 90 | E14: cum | F14: 1423 | G14: =ROUNDUP(F14*D14,0) -> 128070
A16: =A11+1 -> 4 | B16: 4.1 | C16: Wet Mix Macadam (Providing, laying, spreading and compacting graded stone aggregate to wet mix macadam specification including premixing the Material with water at OMC in mechanical mix plant carriage of mixed Material by tipper to site, laying in uniform layers with paver in sub- base / base course on well prepared surface and compacting with vibratory roller to achieve the desired density as per clause 406.) | D16: =Park!H24 -> 75 | E16: cum | F16: 1434 | G16: =ROUNDUP(F16*D16,0) -> 107550
A18: =A16+1 -> 5 | B18: 3.1 Bldg SOR | C18: Providing and laying nominal mix cement concrete with crushed stone aggregate using concrete mixer in foundation, plinth and at ground level excluding cost of form work.
B19: 3.1.3 | C19: 1:3:6 (1 cement : 3 coarse sand : 6 graded stone aggregate 40mm nominal size). | D19: =Park!H29 -> 75 | E19: cum | F19: 2970 | G19: =ROUNDUP(F19*D19,0) -> 222750
A21: =A18+1 -> 6 | B21: 4.15 | C21: Providing & laying precast interlocking concrete blocks of minimum compressive strength of 300 kg/sq.cm and approved size ,shape/ pattern over coarse sand bed of thickness up to 40 mm and joints thick filled with fine sand including leveling with surface vibrator, temping and sweeping etc. complete as per IRC-SP-63-2004.
B22: D) | C22: 60mm thick Polymer coated coloured precast interlock concrete blocks | D22: =Park!H34 -> 750 | E22: Sqm. | F22: 647 | G22: =ROUNDUP(F22*D22,0) -> 485250
E24: Total | G24: =SUM(G6:G23) -> 1014270
E26: To Say | G26: =G24/100000 -> 10.1427

Sheet Abs Drain
A1: DETAILED AND ABSTRACT ESTIMATE OF PROPOSED MULTY UTILITY CENTER AT-…………………………………... (C.G.)
A2: CIVIL WORK - RCC DRAIN _450 X 600MM
A3: S. No. | B3: I. No. | C3: PARTICULAR | D3: QTY | E3: UNIT | F3: RATE | G3: AMOUNT
A5: 1 | B5: 3.25 | C5: Construction of RCC Drain/Cover/Chamber
B6: (i) | C6: Excavation for drain (Earth work in excavation for drain/chamber as per drawing and technical specification, including setting out, construction of shoring and bracing, removal of stumps and other deleterious matter, dressing of sides and bottom and backfilling with approved material.) | D6: =#REF! -> #REF! | E6: cum | F6: 140 | G6: =ROUNDUP(F6*D6,0) -> #REF!
A8: 2 | B8: 6.6 | C8: Providing and laying cement concrete for plain concrete/ reinforced concrete i/c form work, shuttering complete in as per drawings and specifications.( For Village roads)
B9: (i) | C9: P.C.C. M-10 | D9: =#REF! -> #REF! | E9: cum | F9: 2789 | G9: =ROUNDUP(F9*D9,0) -> #REF!
A11: 3 | B11: 3.25 | C11: Construction of RCC Drain/Cover/Chamber
B12: (ii) | C12: Construction of RCC drain/chamber cover, placing in position,providing shuttering and concreting by using concrete mixer,compaction by vibration etc complete as per drawings and technical specifications excluding reinforcement.with RCC M-20 | D12: =#REF! -> #REF! | E12: cum | F12: 4146 | G12: =ROUNDUP(F12*D12,0) -> #REF!
A14: 4 | B14: 3.25 | C14: Construction of RCC Drain/Cover/Chamber
B15: (iii) | C15: Supplying, Fitting and Placing un-coated HYSD bar Reinforcement in drain/cover/chamber complete as per Drawing and Technical Specifications. | D15: =#REF! -> #REF! | E15: Mt | F15: 56301 | G15: =ROUNDUP(F15*D15,0) -> #REF!
A17: 5 | B17: 20.25 Bldg SOR | C17: Providing and constructing brick masonry road gully chamber 50x45x60 cm with well burnt modular clay bricks crushing strength not less than 35kg/cm2 in cement mortar 1:4 (1 cement : 4 coarse sand) including 500x450 mm precast R.C.C. horizontal grating with frame complete as per standard design. | D17: =#REF! -> #REF! | E17: each | F17: 2872 | G17: =ROUNDUP(F17*D17,0) -> #REF!
E19: Total | G19: =SUM(G5:G18) -> #REF!
E21: To Say | G21: =G19/100000 -> #REF!

Sheet Abs HORTI.
A1: DETAILED AND ABSTRACT ESTIMATE OF PROPOSED MULTY UTILITY CENTER AT-…………………………………... (C.G.)
A2: HORTICULTURE
A3: S. No. | B3: I. No. | C3: PARTICULAR | D3: QTY | E3: UNIT | F3: RATE | G3: AMOUNT
A6: =1 -> 1 | B6: 301 | C6: Excavation for all types and sizes of foundations, trenches and drains or for any other purpose including disposal of excavated stuff upto 1.0 m lift and lead upto 30m (at least 50m away from the excavated area), including dressing and leveling of pits.
C7: Hard rocks | D7: =#REF! -> #REF! | E7: cum | F7: 154.7 | G7: =ROUNDUP(F7*D7,0) -> #REF!
A9: =A6+1 -> 2 | B9: 413 | C9: Providing and laying 40mm thick nominal mix plain cement concrete with crushed stone aggregate using concrete mixer in all works upto plinth level excluding cost of form work.
C10: 1:4:8 (1 cement : 4 coarse sand : 8 graded stone aggregate 40mm nominal size). | D10: =#REF! -> #REF! | E10: cum | F10: 2454.4 | G10: =ROUNDUP(F10*D10,0) -> #REF!
A12: =A9+1 -> 3 | B12: 605 | C12: Well burnt Modular Brick (open bhatta) clay bricks in foundation and plinth in:
B13: 606 | C13: Extra for brick work
C14: Cement Mortar 1:6 (1 cement : 6 coarse sand) | D14: =#REF! -> #REF! | E14: cum | F14: 2867.5 | G14: =ROUNDUP(F14*D14,0) -> #REF!
A16: =A12+1 -> 4 | B16: 1220 | C16: Providing and laying damp proof course (upto 50mm thick) with plain cement concrete 1:2:4 (1 cement : 2 coarse sand : 4 graded crushed stone aggregate 20mm nominal size) including form work. | D16: =#REF! -> #REF! | E16: cum | F16: 2867.5 | G16: =ROUNDUP(F16*D16,0) -> #REF!
A18: =A16+1 -> 5 | B18: 1011 | C18: Providing and making 20mm thick cement plaster of mix:
C19: In Cement Mortar 1:6 (1 cement : 6 fine sand) | D19: =#REF! -> #REF! | E19: Sqm | F19: 161.5 | G19: =ROUNDUP(F19*D19,0) -> #REF!
A21: =A18+1 -> 6 | B21: 12.65 | C21: Providing & laying 60mm thick precast interlocking concrete blocks of approved size (approx 305 sqcm) and shape/ pattern, over 40 mm thick average complete coarse sand bed with joints of 3mm thick filled by fine sand including leveling with surface vibrator, temping and sweeping etc. complete of minimum compressive strength of 250 kg/sq.cm
B22: 12.65.1 | C22: Plain/ normal coloured precast interlock concrete block | D22: =#REF! -> #REF! | E22: sqm | F22: 436 | G22: =ROUNDUP(F22*D22,0) -> #REF!
B23: 12.65.2 | C23: Pigment Coloured (rubber mould) precast interlock concrete blocks | D23: =#REF! -> #REF! | E23: sqm | F23: 632 | G23: =ROUNDUP(F23*D23,0) -> #REF!
A25: =A21+1 -> 7 | B25: 22.2 | C25: Supplying and stacking of good earth at site including royalty, loading, unloading and carriage upto 10 km (earth measured in stacks will be reduced by 20% for payment). | D25: =#REF! -> #REF! | E25: cum | F25: 201 | G25: =ROUNDUP(F25*D25,0) -> #REF!
A27: =A25+1 -> 8 | B27: 22.3 | C27: Supplying and stacking sludge at site including royalty, loading, unloading and carriage upto 5 km (sludge measured in stacks will be reduced by 8% for payment). | D27: =#REF! -> #REF! | E27: cum | F27: 248 | G27: =ROUNDUP(F27*D27,0) -> #REF!
A29: =A27+1 -> 9 | B29: 402 | C29: Providing and filling in plinth with sand/ Crusher dust and hard moorum under floor in depth consolidating each deposited layer by ramming and watering, including dressing etc. complete. | D29: =#REF! -> #REF! | E29: cum | F29: 222 | G29: =ROUNDUP(F29*D29,0) -> #REF!
A31: =A29+1 -> 10 | B31: 22.8 | C31: Spreading of sludge, dump manure or/and good earth in required thickness (Cost of sludge, dump manure or/ and good earth to be paid separately). | D31: =#REF! -> #REF! | E31: cum | F31: 17.5 | G31: =ROUNDUP(F31*D31,0) -> #REF!
A33: =A31+1 -> 11 | B33: 22.9 | C33: Mixing earth and sludge or manure in proportion specified or directed.
C34: Mixing earth , sand & Sludge | D34: =#REF! -> #REF! | E34: cum | F34: 11 | G34: =ROUNDUP(F34*D34,0) -> #REF!
A36: =A33+1 -> 12 | B36: 22.24 | C36: Flooding the ground with water including making kiaries and dismantling the same. | D36: =#REF! -> #REF! | E36: sqm | F36: 1.1 | G36: =ROUNDUP(F36*D36,0) -> #REF!
A38: =A36+1 -> 13 | B38: 22.25 | C38: Providing and planting following herbs in garden including preparation of soil, base plantation, providing and spreading different fertilizers, soil and sand:
B39: 22.25.1 | C39: Hedges like Alife, Dorenta, Tikoma etc | D39: =#REF! -> #REF! | E39: Each | F39: 14 | G39: =ROUNDUP(F39*D39,0) -> #REF!
B40: 22.25.3 | C40: Hibiscus (Flower)/ Rose | D40: =#REF! -> #REF! | E40: Each | F40: 26.5 | G40: =ROUNDUP(F40*D40,0) -> #REF!
B42: 22.25.4 | C42: Carpet grass (well developed) | D42: =#REF! -> #REF! | E42: sqm | F42: 263 | G42: =ROUNDUP(F42*D42,0) -> #REF!
A44: =A38+1 -> 14 | B44: 12.7 | C44: Providing and fixing ceramic glazed wall tiles conforming to IS : 15622 of approved make, colours, shades and size on wall and dados over 12 mm thick bed of cement Mortar 1:3 (1 cement : 3 coarse sand) and jointing with grey cement slurry @ 3.3kg per sqm including pointing in white cement mixed with matching pigment complete.
B45: 12.7.1 | C45: Size upto 200x300mm | D45: =#REF! -> #REF! | E45: sqm | F45: 587 | G45: =ROUNDUP(F45*D45,0) -> #REF!
E47: Total | G47: =SUM(G6:G46) -> #REF!
E49: To Say | G49: =G47/100000 -> #REF!

Sheet Abs Bore
A1: DETAILED AND ABSTRACT ESTIMATE OF PROPOSED MULTY UTILITY CENTER AT-…………………………………... (C.G.)
A2: BORE WELL- 2 Nos.
A3: S. No. | B3: I. No. | C3: PARTICULAR | D3: QTY | E3: UNIT | F3: RATE | G3: AMOUNT
A5: 1 | B5: 21.1 | C5: Boring/drilling bore well perfectly vertical for the specified depth suitable to receive required dia for casing/ strainer pipe, by suitable method prescribed in IS: 2800 (part I), including collecting samples from different strata, preparing and submitting strata chart/bore log, including hire & running charges of all equipments, tools, plants & machineries required for the job, all complete as per direction of Engineer–in-charge upto 90 metre depth below ground level.
B6: 21.1.1 | C6: All types of soil
B7: 21.1.1.3 | C7: 150 mm dia. | D7: =#REF! -> #REF! | E7: metre | F7: 339 | G7: =ROUNDUP(F7*D7,0) -> #REF!
B8: 21.1.2 | C8: Rocky strata including Boulders.
B9: 21.1.2.3 | C9: 150 mm dia. | D9: =#REF! -> #REF! | E9: metre | F9: 396 | G9: =ROUNDUP(F9*D9,0) -> #REF!
A11: 2 | B11: 21.2 | C11: Boring/drilling bore well perfectly vertical for the specified depth suitable to receive required dia for casing/ strainer pipe, by suitable method prescribed in IS: 2800 (part I), including collecting samples from different strata, preparing and submitting strata chart/bore log, including hire & running charges of all equipments, tools, plants & machineries required for the job, all complete as per direction of Engineer–in-charge beyond 90 metre & upto 150 metre depth below ground level.
A12: 3 | B12: 21.2.2 | C12: Rocky strata including Boulders.
B13: 21.2.2.3 | C13: 150 mm dia. | D13: =#REF! -> #REF! | E13: metre | F13: 424 | G13: =ROUNDUP(F13*D13,0) -> #REF!
A15: 4 | B15: 21.5 | C15: Supplying, assembling, lowering and fixing in vertical position in bore well, ISI marked G.I. casing pipe (Plain) medium class in 4 to 7 meters length one end fitted with socket as per IS: 1239 (Part-1&Part-2) 1992 with Ivth revision (Up-to-date amendments), of reputed & approved make, including required hire & labour charges, fittings & accessories, all complete, for all depths, as per direction of Engineer- in-charge.
B16: 21.5.3 | C16: 150 mm nominal dia | D16: =#REF! -> #REF! | E16: metre | F16: 1304 | G16: =ROUNDUP(F16*D16,0) -> #REF!
B17: .
A18: 5 | B18: 21.11 | C18: Providing and fixing suitable size threaded mild steel cap or spot welded plate to the top of bore well housing/ casing pipe, removable as per requirement, all complete for bore well of:
B19: 21.11.3 | C19: 150 mm dia | D19: =#REF! -> #REF! | E19: each | F19: 217 | G19: =ROUNDUP(F19*D19,0) -> #REF!
A21: 6 | B21: 21.17 | C21: Carrying out the resistivity survey by VES method using Schlumberger configuration for locating the proper spot for drilling of tube well within the selected habitation, including photography, interpretation of resistivity data and submission of report in the desired format along with resistivity readings, necessary graph and photographs. (only successful point is payable) | D21: =#REF! -> #REF! | E21: point | F21: 1502 | G21: =ROUNDUP(F21*D21,0) -> #REF!
E23: Total :- | G23: =SUM(G5:G22) -> #REF!
E25: To Say :- | G25: =G23/100000 -> #REF!

Sheet Abs CW
A1: DETAILED AND ABSTRACT ESTIMATE OF PROPOSED MULTY UTILITY CENTER AT-…………………………………... (C.G.)
A2: CIVIL WORK_ COMPOUND WALL i/c GUARD ROOM & ENTRANCE GATE
A3: S. No. | B3: I. No. | C3: PARTICULAR | D3: QTY | E3: UNIT | F3: RATE | G3: AMOUNT
A6: =1 -> 1 | B6: 307 | C6: Excavation for all types and sizes of foundations, trenches ,drains and not more than 1.5m. width and 10 sqm. Area, including dressing and leveling of pits.
C7: Hard rocks. | D7: =#REF! -> #REF! | E7: cum | F7: 154.7 | G7: =ROUNDUP(F7*D7,0) -> #REF!
A9: =A6+1 -> 2 | B9: 413 | C9: Providing and laying nominal mix cement concrete with crushed stone of 40mm size aggregate using concrete mixer in foundation, plinth and at ground level excluding cost of form work.
C10: 1:3:6 (1 cement : 3 coarse sand : 6 graded stone aggregate 40mm nominal size). | D10: =#REF! -> #REF! | E10: cum | F10: 2754.2 | G10: =ROUNDUP(F10*D10,0) -> #REF!
A12: =A9+1 -> 3 | B12: 425 | C12: Providing and laying nominal mix reinforced cement concrete with crushed stone aggregate using concrete mixer in all works upto plinth level excluding cost of form work.
C13: 1:2:4 (1 cement : 2 coarse sand : 4 graded stone aggregate 20mm nominal size). | D13: =#REF! -> #REF! | E13: cum | F13: 3913.9 | G13: =ROUNDUP(F13*D13,0) -> #REF!
A15: =A12+1 -> 4 | B15: 904 | C15: Upto 2 Floor, Providing and placing in position reinforcement for R.C.C. work including straightening, cutting, bending, binding etc. complete as per drawings including cost of binding wire in foundation and plinth all complete:
C16: Cold twisted Bar | D16: =#REF! -> #REF! | E16: Kg | F16: 66 | G16: =ROUNDUP(F16*D16,0) -> #REF!
A18: =A15+1 -> 5 | B18: 430 | C18: Providing and fixing form work including centring, shuttering, strutting, staging, propping bracing etc. complete and including its removal at all levels, for: | D18: =#REF! -> #REF! | E18: sqm | F18: 220.9 | G18: =ROUNDUP(F18*D18,0) -> #REF!
A20: =A18+1 -> 6 | B20: 420 | C20: Providing and laying damp proof course (upto 50mm thick) with plain cement concrete 1:2:4 (1 cement : 2 coarse sand : 4 graded crushed stone aggregate 20mm nominal size) including form work. | D20: =#REF! -> #REF! | E20: sqm | F20: 237.2 | G20: =ROUNDUP(F20*D20,0) -> #REF!
A22: =A20+1 -> 7 | B22: 401 | C22: Filling from available excavated stuff (Excluding rock) in trenches, plinth, sides of foundation etc. in layers not exceeding 20cm in depth consolidating each deposited layer by ramming and watering with a lead upto 50 M. and lift upto 1.5 M. | D22: =#REF! -> #REF! | E22: cum | F22: 54.7 | G22: =ROUNDUP(F22*D22,0) -> #REF!
A24: =A22+1 -> 8 | B24: 402 | C24: Providing and filling in plinth with sand/ Crusher dust and hard moorum under floor in depth consolidating each deposited layer by ramming and watering, including dressing etc. complete. | D24: =#REF! -> #REF! | E24: cum | F24: 222 | G24: =ROUNDUP(F24*D24,0) -> #REF!
A26: =A24+1 -> 9 | B26: 605 | C26: Well burnt Modular Brick (open bhatta) clay bricks in foundation and plinth in:
B27: 606 | C27: Extra for brick work
C28: Cement Mortar 1:6 (1 cement : 6 coarse sand) | D28: =#REF! -> #REF! | E28: cum | F28: 2867.5 | G28: =ROUNDUP(F28*D28,0) -> #REF!
A30: =A26+1 -> 10 | B30: 8.58 | C30: Providing and fixing bright finished brass butt hinges with brass polished MS screws complete:
B31: 8.58.1 | C31: 125x85x5.50 mm (Heavy Type) | D31: =#REF! -> #REF! | E31: each | F31: 245 | G31: =ROUNDUP(F31*D31,0) -> #REF!
C32: Guard Room
A33: =A30+1 -> 11 | B33: 8.60 | C33: Providing and fixing bright finished brass sliding door bolt with nuts and brass polished MS screws complete:
B34: 8.60.1 | C34: 300x16mm | D34: =#REF! -> #REF! | E34: each | F34: 475 | G34: =ROUNDUP(F34*D34,0) -> #REF!
A36: =A33+1 -> 12 | B36: 8.61 | C36: Providing and fixing brass door latch with brass polished MS screws complete:
B37: 8.61.1 | C37: 300x16x5 mm | D37: =#REF! -> #REF! | E37: each | F37: 398 | G37: =ROUNDUP(F37*D37,0) -> #REF!
A39: =A36+1 -> 13 | B39: 8.62 | C39: Providing and fixing bright finished brass tower bolts (barrel type) with brass polished MS screws complete:
B40: 8.62.1 | C40: 250x10mm | D40: =#REF! -> #REF! | E40: each | F40: 276 | G40: =ROUNDUP(F40*D40,0) -> #REF!
A42: =A39+1 -> 14 | B42: 8.65 | C42: Providing and fixing bright finished brass door handles with brass polished MS screws complete:
B43: 8.65.1 | C43: 125 mm | D43: =#REF! -> #REF! | E43: each | F43: 55.5 | G43: =ROUNDUP(F43*D43,0) -> #REF!
A45: =A42+1 -> 15 | B45: 8.73 | C45: Providing and fixing 150mm bright finished brass floor door stopper with rubber cushion & brass polished MS screws etc complete to suit the shutter thickness. | D45: =#REF! -> #REF! | E45: each | F45: 73 | G45: =ROUNDUP(F45*D45,0) -> #REF!
A47: =A45+1 -> 16 | B47: 8.4 | C47: Providing and fixing Dash fastener (for fixing door/ window frames) on C.C. / R.C.C./ Brick masonry surface backing including drilling necessary holes and the cost of bolt etc complete.
B48: 8.4.3 | C48: Dash fastener 12x100mm | D48: =#REF! -> #REF! | E48: each | F48: 39 | G48: =ROUNDUP(F48*D48,0) -> #REF!
A50: =A47+1 -> 17 | B50: 920 | C50: Providing and fixing M.S. grill of approved pattern made of M.S. flats or square or round bars welded to steel frame of windows etc. including applying a priming coat welded to frame with all necessary fitting complete including applying a priming of red oxide zinc chromate primer. | D50: =#REF! -> #REF! | E50: Kg | F50: 68.5 | G50: =ROUNDUP(F50*D50,0) -> #REF!
A52: =A50+1 -> 18 | B52: 9.47 | C52: Providing and fixing aluminium work for doors, windows, ventilators and partitions made out of extruded aluminium standard sections (main section with minimum 1.5mm thickness) conforming to IS: 733, IS: 1285 mitred and jointed mechanically including aluminium cleats, neoprene weather stripping gasket beveled edge beading, screws duly fixed in wall/ floor with fixing clips or hold fasteners or bolts and nuts as required aluminium sections shall be anodized transparent or dyed to approved shade according to IS: 1868, minimum anodic coating shall be of grade AC-15. (Glazing to be paid for separately: | D52: =#REF! -> #REF! | E52: Kg | F52: 331 | G52: =ROUNDUP(F52*D52,0) -> #REF!
A54: =A52+1 -> 19 | B54: 9.47.2 | C54: For shutter of doors, windows & ventilators including providing and making provision for fixing of fitting wherever required including the cost of PVC/ neoprene gasket required (Fittings shall be paid for separately). | D54: =#REF! -> #REF! | E54: Kg | F54: 338 | G54: =ROUNDUP(F54*D54,0) -> #REF!
A56: =A54+1 -> 20 | B56: 9.48 | C56: Extra for powder coated (minimum 50 micron) aluminium sections instead of anodized. | D56: =#REF! -> #REF! | E56: kg | F56: 27 | G56: =ROUNDUP(F56*D56,0) -> #REF!
A58: =A56+1 -> 21 | B58: 9.51 | C58: Providing and fixing glazing in aluminium door, window, ventilator shutters and partitions etc. with PVC/ neoprene gasket etc. complete. (Cost of aluminium snap beading shall be paid in basic item):
B59: 9.51.1 | C59: With float glass panes of 4 mm thickness | D59: =#REF! -> #REF! | E59: sqm | F59: 611 | G59: =ROUNDUP(F59*D59,0) -> #REF!
A61: =A58+1 -> 22 | B61: 1254 | C61: 25 mm thick KOTA stone flooring over 20mm (Average) thick base of cement mortar 1:6 laid over and jointed with grey cement slurry mixed with pigment to match the shade of the slab including grinding rubbing and polishing etc. complete (Area of slab to be over 0.20 sqm ) | D61: =#REF! -> #REF! | E61: sqm | F61: 1490 | G61: =ROUNDUP(F61*D61,0) -> #REF!
A63: =A61+1 -> 23 | B63: 1007 | C63: Providing and making 12mm thick cement plaster of mix:
...

Sheet Culvert
A1: DETAILED AND ABSTRACT ESTIMATE OF PROPOSED MULTY UTILITY CENTER AT-……………………………………….. (C.G.)
A2: 900x900mm BOX CULVERT
A3: S. No. | B3: I. No. | C3: PARTICULAR | D3: Measurement | H3: QTY | I3: UNIT | J3: RATE | K3: AMOUNT
D4: NO | E4: L | F4: B | G4: D/H
A5: 1 | B5: 3.25 | C5: Construction of RCC Drain/Cover/Chamber
B6: (I) | C6: Excavation for drain (Earth work in excavation for drain/chamber as per drawing and technical specification, including setting out, construction of shoring and bracing, removal of stumps and other deleterious matter, dressing of sides and bottom and backfilling with approved material.) | D6: 6 | E6: 9 | F6: 1.7 | G6: 1.55 | H6: =G6*F6*E6*D6 -> 142.29 | I6: cum | J6: 140 | K6: =J6*H6 -> 19920.6
A8: 2 | B8: 6.6 | C8: Providing and laying cement concrete for plain concrete/ reinforced concrete ice form work, shuttering complete in as per drawings and specifications.( For Village roads)
B9: (I) | C9: P.C.C. M-10 | D9: 6 | E9: 9 | F9: 1.7 | G9: 0.15 | H9: =G9*F9*E9*D9 -> 13.77 | I9: cum | J9: 2789 | K9: =J9*H9 -> 38404.53
A11: 3 | B11: 3.25 | C11: Construction of RCC Drain/Cover/Chamber
B12: (ii) | C12: Construction of RCC drain/chamber cover, placing in position, providing shuttering and concreting by using concrete mixer, compaction by vibration etc complete as per drawings and technical specifications excluding reinforcement. with RCC M-20
C13: Top & Bottom | D13: 6 | E13: 9 | F13: 1.5 | G13: 0.25 | H13: =G13*F13*E13*D13 -> 20.25
C14: Side Wall | D14: 12 | E14: 6 | F14: 0.25 | G14: 0.9 | H14: =G14*F14*E14*D14 -> 16.2
F15: Total | H15: =SUM(H13:H14) -> 36.45 | I15: cum | J15: 4146 | K15: =J15*H15 -> 151121.7
A17: 4 | B17: 3.25 | C17: Construction of RCC Drain/Cover/Chamber
B18: (iii) | C18: Supplying, Fitting and Placing un-coated HYSD bar Reinforcement in drain/cover/chamber complete as per Drawing and Technical Specifications. | D18: 1 | E18: =H15 -> 36.45 | G18: 80 | H18: =G18*E18*D18 -> 2916 | I18: Kg
C19: 80 kg per cum | F19: Total | H19: =H18/1000 -> 2.916 | I19: Mt | J19: 56301 | K19: =J19*H19 -> 164173.72
J21: Total | K21: =SUM(K5:K19) -> 373620.55
J23: To say | K23: =K21/100000 -> 3.7362055

Sheet Park
A1: DETAILED AND ABSTRACT ESTIMATE OF PROPOSED MULTY UTILITY CENTER AT-…………………………………... (C.G.)
A2: LIGHT VEHICLE PARKING
A3: S. No. | B3: I. No. | C3: PARTICULAR | D3: MEASUREMENT | H3: QTY | I3: UNIT | J3: RATE | K3: AMOUNT
D4: NO | E4: L | F4: B | G4: D/H
A6: =1 -> 1 | C6: Excavation in Soil (by Mechanical Means.)
B7: 3.2 | C7: Excavation for roadway in soil using mechanical means including loading in tipper for carrying of cut earth to embankment site and unloading with all lifts and lead up to 1000 meters as per relevant clauses of section 300.
C8: 5.0m. Wide Parking | D8: 2 | E8: 75 | F8: 6 | G8: 0.3 | H8: =PRODUCT(D8:G8) -> 270
F9: Total | H9: =SUM(H8:H8) -> 270 | I9: cum | J9: 95 | K9: =ROUNDUP(J9*H9,0) -> 25650
A11: =A6+1 -> 2 | B11: 3.13 | C11: Construction of sub-grade with Material Obtained from Borrow Pits/Borrow Area (Construction of sub-grade with approved material/selected soil having C.B.R.>8 (unless specified otherwise in the contract) obtained from borrow pits with all lifts and leads, transporting to site, spreading, grading to required slope and compacting to meet requirement of table 300-2)
C12: 5.0m. Wide Parking | D12: 2 | E12: 75 | F12: 6 | G12: 0.2 | H12: =PRODUCT(D12:G12) -> 180
F13: Total | H13: =SUM(H12:H12) -> 180 | I13: cum | J13: 250 | K13: =ROUNDUP(J13*H13,0) -> 45000
A15: =A11+1 -> 3 | B15: 4.1 | C15: Granular Sub-base as per Table:- 400-1 Construction of granular sub-base by providing graded Material, ,carriage of mixed Material to work site, spreading in uniform layers with motor grader on prepared surface watering, rolling and compacting with vibratory power roller at OMC to achieve the desired density, complete as per clause 401
B16: A | C16: Plant mix method (with Mechanically crushed stone only)
B17: (a) | C17: For Lower Sub-base with
B18: (i) | C18: Grading-III Material
C19: 5.0m. Wide Parking | D19: 2 | E19: 75 | F19: 6 | G19: 0.1 | H19: =PRODUCT(D19:G19) -> 90
F20: Total | H20: =SUM(H19:H19) -> 90 | I20: cum | J20: 1423 | K20: =ROUNDUP(J20*H20,0) -> 128070
A22: =A15+1 -> 4 | B22: 4.1 | C22: Wet Mix Macadam (Providing, laying, spreading and compacting graded stone aggregate to wet mix macadam specification including premixing the Material with water at OMC in mechanical mix plant carriage of mixed Material by tipper to site, laying in uniform layers with paver in sub- base / base course on well prepared surface and compacting with vibratory roller to achieve the desired density as per clause 406.)
C23: 5.0m. Wide Parking | D23: 2 | E23: 75 | F23: 5 | G23: 0.1 | H23: =PRODUCT(D23:G23) -> 75
F24: Total | H24: =SUM(H23:H23) -> 75 | I24: cum | J24: 1434 | K24: =ROUNDUP(J24*H24,0) -> 107550
A26: =A22+1 -> 5 | B26: 3.1 Bldg SOR | C26: Providing and laying nominal mix cement concrete with crushed stone aggregate using concrete mixer in foundation, plinth and at ground level excluding cost of form work.
B27: 3.1.3 | C27: 1:3:6 (1 cement : 3 coarse sand : 6 graded stone aggregate 40mm nominal size).
C28: 5.0m. Wide Parking | D28: 2 | E28: 75 | F28: 5 | G28: 0.1 | H28: =PRODUCT(D28:G28) -> 75
F29: Total | H29: =SUM(H28:H28) -> 75 | I29: cum | J29: 2970 | K29: =ROUNDUP(J29*H29,0) -> 222750
A31: =A26+1 -> 6 | B31: 4.15 | C31: Providing & laying precast interlocking concrete blocks of minimum compressive strength of 300 kg/sq.cm and approved size ,shape/ pattern over coarse sand bed of thickness up to 40 mm and joints thick filled with fine sand including leveling with surface vibrator, temping and sweeping etc. complete as per IRC-SP-63-2004.
B32: D) | C32: 60mm thick Polymer coated coloured precast interlock concrete blocks
C33: 5.0m. Wide Parking | D33: 2 | E33: 75 | F33: 5 | H33: =PRODUCT(D33:G33) -> 750
F34: Total | H34: =SUM(H33:H33) -> 750 | I34: Sqm. | J34: 647 | K34: =ROUNDUP(J34*H34,0) -> 485250
I36: Total | K36: =SUM(K6:K35) -> 1014270
I38: To Say | K38: =K36/100000 -> 10.1427

Sheet MRF
A1: DETAIL ESTIMATE OF THE MRF AYODHYA
A2: USED BY RATES OF ALL ITEM per Uttar Pradesh Schedule of Rates (SOR)
A3: S. No. | B3: PARTICULAR | D3: Measurment | H3: QTY | I3: UNIT | J3: AMOUNT
C4: SCH .NO. | D4: NO | E4: L | F4: B | G4: D/H
A5: 1 | B5: EARTH WORKS
A6: 1.01 | B6: Carriage of material bymechanical transport includeing, loading, unloading and stacking | C6: 1.1.2
B7: Up to 2km | C7: 1.1.2.5 | H7: 50 | I7: cum
A8: 1.02 | B8: Earth work in excavation by manual means in trenches for foundations, drains, pipes, cables etc. (Not exceeding 1.5 mtr in width) and for shafts, wells, cesspits and the like not exceeding 1O sqm on plan, depth upto 1.5mtr. including disposal of excavated earth upto 1 mtr from cutting edge, disposed earth is to be levelled and neatly dressed in: | C8: 2.8 | H8: 95 | I8: cum
B9: All Kinds of soil | C9: 2.8.1
A10: 1.03 | B10: Filling available excavated earth (excluding rock) in trenches, plinth, sides of foundations etc. in layers not exceeding 20cm in depth, consolidating each deposited layer by ramming and watering, lead up to 50 m and lift upto 1.5 m (Existing site condition below 1.2m from road lvl) | C10: 2.25 | D10: 1 | H10: 1173 | I10: cum
A11: 1.04 | B11: Supplying and filling in plinth with sand under floors, including watering, ramming, consolidating and dressing complete. | C11: 2.27
B12: TOTAL OF SUB - HEAD
A13: 2 | B13: CONCRETE WORK
A14: 2.01 | B14: Providing and laying in position cement concrete of specified grade excluding the cost of centering and shuttering-All work up toplinth level : | C14: 4.1
A15: A | B15: Providing and laying cement concrete 1:4:8 (1 cement :4 coarse sand :8 graded Stone aggregate 40 mm nominal size) | C15: 4.1.8 | H15: 34.75 | I15: cum
A16: 2.02 | B16: Providing and laying cement concrete in retaining walls, returnwalls, walls (any thickness) including attached pilasters, columns, piers, abutments,pillars,posts,struts,buttresses,stringor lacingcourses, parapets, coping, bed blocks, anchor blocks, plain window sills, fillets, sunken floor etc.,upto floor five level,excludingthecostof centering, shuttering and finishing | C16: 4.2
B17: 1:2:4 (1Cement :2coarsesand:4gradedstoneaggregate20mm nominal size). | C17: 4..2.3 | H17: 1
A18: 2.03 | B18: Providingand layingdamp-proof course40mmthickwithcement concrete1:2:4(1cement :2coarsesand(zone-III):4gradedstone aggregate 12.5mm nominal size) | C18: 4.1 | H18: 20
A19: 2.04 | B19: Extra for providing and mixing water proofing material incement concretework indosesbyweightof cementaspermanufacturer's specification. | C19: PER 50KG CEMENT | H19: 6
A20: 2.05 | B20: Making plinthprotection 50mm thickof cement concrete1:3:6 (1 cement :3coarsesand:6gradedstoneaggregate20mmnominal size)over75mmthickbedofdrybrickballast40mmnominal size, well rammedandconsolidatedandgroutedwithfinesand, including necessary excavation, levelling & dressing & finishing the top smooth. | C20: 4.17 | H20: 50
B21: TOTAL OF SUB - HEAD
A22: 3 | B22: RAINFORCED CEMENT CONCRETE | C22: 5
B23: Centering and shuttering including strutting, propping etc. and removal of form for all heights: | C23: 5.9 | H23: 109 | I23: sqm
A24: a | B24: Foundations, footings, bases of columns, etc. for mass concrete | C24: 5.9.1
A25: b | B25: Columns, Pillars, Piers, Abutments, Posts and Struts | C25: 5.9.6
A26: c | B26: Small lintels not exceeding 1.5m clear span, moulding as in cornices,windowsills, stringcourses, bands, copings, bedplates, anchor blocks and the like | C26: 5.9.15
A27: d | B27: Edges of slabs and breaks in floors and walls | C27: 5.916.1
A28: e | B28: Suspended floors, roofs, landings, balconies and access platform. with water proof ply 12 mm thick | C28: 5.9.20
B29: Column reinforcement (shed area ) | H29: 606 | I29: kg
A30: 3.01 | B30: Column reinforcement (Boundary wall area no. of column 4 dia 12mm ) | H30: 501 | I30: Kg
B31: Beam reinforcement (shed area ) | H31: 1650 | I31: kg
B32: Foundation (shed area ) | H32: 600 | I32: kg
B33: Foundation (Boundary wall area ) | H33: 590 | I33: kg
B34: Total Weight | H34: =SUM(H29:H33) -> 3947 | I34: kg
B35: TOTAL OF SUB - HEAD
A36: 4 | B36: MASONARY WORKS
A37: 4.01 | B37: Brick work with common burnt clayF.P.S. (nonmodular) bricksof class designation 7.5 in foundation and plinth in: | C37: 6.1
B38: Cement mortar 1:6 (1 cement : 6 coarse sand) | C38: 6.1 | H38: 30
A39: 4.02 | B39: Brick workwithcommonburnt clay F.P.S. (nonmodular) bricksof class designation7.5 in superstructure above plinth level up to floor V level in all shapes and sizes in : | C39: 6.4
A40: a | B40: Cement mortar 1:6 (1 cement : 6 coarse sand) | C40: 6.4.2 | H40: 31.4
...

Sheet TRUSS DETAILS 
A1: =MRF!A1 -> DETAIL ESTIMATE OF THE MRF AYODHYA
A2: TRUSS DETAILS OF MRF AYODHYA
A3: A) Calculation of Quantity for Truss :
A4: 1. Column:
A5: Sl.no | B5: Location | C5: Member | D5: Unit | E5: H | F5: No. | G5: KG/M | H5: Quantity | I5: Total quantity | J5: Remarks
A6: 1 | B6: Column | C6: (SHS 132x132x4.8) | D6: Kg | E6: 3 | F6: 14 | G6: 18.71 | H6: =G6*F6*E6 -> 785.82 | I6: =H6 -> 785.82 | J6: Kg
A7: 2 | C7: (SHS 60x60x4) | D7: Kg | E7: 0 | G7: 6.71 | H7: =G7*F7*E7 -> 0 | I7: =H7 -> 0 | J7: Kg
B8: Total weight of truss, purline & bracing= | I8: =I7+I6 -> 785.82 | J8: Kg
I9: =I8/100 -> 7.8582 | J9: Qtl
A10: 1. Truss:
A11: Sl.no | B11: Location | C11: Member | D11: Unit | E11: L | F11: No. | G11: KG/M | H11: Quantity | I11: Total quantity | J11: Remarks
A12: 3 | B12: Truss | C12: Truss (RHS 145x82x4.8) | D12: Kg | E12: 18 | F12: 5 | G12: 15.92 | H12: =G12*F12*E12 -> 1432.8 | I12: =H12 -> 1432.8 | J12: Kg
A13: 4 | D13: Kg | E13: 0 | F13: 5 | G13: 11.88 | H13: =G13*F13*E13 -> 0 | I13: =H13 -> 0 | J13: Kg
A14: 5 | C14: Brassing (SHS 60x60x4) | D14: Kg | E14: 0 | F14: 5 | G14: 6.71 | H14: =G14*F14*E14 -> 0 | I14: =H14 -> 0 | J14: Kg
A15: 6 | C15: Runner (RHS 122x61x4.5) | D15: Kg | E15: 10 | F15: 5 | G15: 11.88 | H15: =G15*F15*E15 -> 594 | I15: =H15 -> 594 | J15: Kg
A16: 7 | C16: Purlin (RHS 145x82x4.8) | D16: Kg | E16: 22 | F16: 16 | G16: 15.92 | H16: =G16*F16*E16 -> 5603.84 | I16: =H16 -> 5603.84 | J16: Kg
A17: 8 | D17: Kg | E17: 0 | F17: 1 | G17: 15.5 | H17: =G17*F17*E17 -> 0 | I17: =H17 -> 0 | J17: Kg
B18: Total weight of truss, purline & bracing= | I18: =SUM(I12:I17) -> 7630.64
I19: =I18/100 -> 76.3064 | J19: Qtl
A21: 2. Roof Sheet:
A22: Sl.no | B22: Location | C22: Member | D22: Unit | E22: L | F22: B | G22: No. | H22: Quantity | I22: Total quantity | J22: Remarks
A23: 9 | B23: Roof | D23: Sqm | E23: 21.95 | F23: 19.5 | G23: 1 | H23: =G23*F23*E23 -> 428.025 | I23: =H23 -> 428.025 | J23: Sqm
I24: =SUM(I23:I23) -> 428.025
A25: 3. MS plate:
A26: Sl.no | B26: Location | C26: Member | D26: Unit | E26: L | F26: B/H | G26: T | H26: No. | I26: Kg/Sqm | J26: Quantity | K26: Total quantity | L26: Remarks
A27: 10 | B27: Ms plate (For Pedestal) | C27: Ms plate | D27: Kg | E27: 0.5 | F27: 0.5 | G27: 0.032 | H27: 14 | I27: 251 | J27: =H27*I27*F27*E27 -> 878.5 | K27: =J27 -> 878.5 | L27: Kg
A28: 11 | C28: Stiffner | D28: Kg | E28: 0.2 | F28: 0.29 | G28: 0.01 | H28: 42 | I28: 78.5 | J28: =H28*I28*F28*E28 -> 191.226 | K28: =J28 -> 191.226 | L28: Kg
A29: 12 | B29: Ms plate (For Truss) | C29: Ms plate | D29: Kg | E29: 0.25 | F29: 0.25 | G29: 0.025 | H29: 14 | I29: 196 | J29: =H29*I29*F29*E29 -> 171.5 | K29: =J29 -> 171.5 | L29: Kg
A30: 13 | C30: Stiffner | D30: Kg | E30: 0.2 | F30: 0.1 | G30: 0.01 | H30: 150 | I30: 78.5 | J30: =H30*I30*F30*E30 -> 235.5 | K30: =J30 -> 235.5 | L30: Kg
A31: 14 | C31: Stiffner | D31: Kg | E31: 0.2 | F31: 0.2 | G31: 0.012 | H31: 48 | I31: 94.2 | J31: =H31*I31*F31*E31 -> 180.864 | K31: =J31 -> 180.864 | L31: Kg
D32: Total weight of MS plate= | K32: =SUM(K27:K31) -> 1657.59 | L32: Kg
K33: =K32/100 -> 16.5759 | L33: Qtl
A35: 4. Bolt :
A36: Sl.no | B36: Location | C36: Member | D36: Unit | E36: L | F36: B | G36: T | H36: No. | I36: Kg/m | J36: Quantity | K36: Wastage | L36: Total quantity | M36: Remarks
A37: 15 | B37: Bolt | C37: Bolt for MS plate(Pedestal) | D37: Kg | E37: 1 | G37: 0.025 | H37: 100 | I37: 3.85 | J37: =I37*E37*H37 -> 385 | L37: =K37+J37 -> 385 | M37: Kg
A38: 16 | C38: Bolt for MS plate(Truss) | D38: Kg | E38: 0.6 | G38: 0.025 | H38: 250 | I38: 3.85 | J38: =I38*E38*H38 -> 577.5 | L38: =K38+J38 -> 577.5 | M38: Kg
D39: Total weight of bolt= | L39: =SUM(L37:L38) -> 962.5 | M39: Kg
L40: =L39/100 -> 9.625 | M40: Qtl
D41: Total weight of truss, purline, brassing, runner, bolt & MS plate= | L41: =L40+K33+I19+I9 -> 110.3655 | M41: Qtl
L42: =L41*L43 -> 11036.55
...
